BEGIN:VCALENDAR
VERSION:2.0
PRODID:-//ChamberMaster//Event Calendar 2.0//EN
METHOD:PUBLISH
X-PUBLISHED-TTL:P3D
REFRESH-INTERVAL:P3D
CALSCALE:GREGORIAN
BEGIN:VEVENT
DTSTART:20191124T020000Z
DTEND:20191124T050000Z
X-MICROSOFT-CDO-ALLDAYEVENT:FALSE
SUMMARY:Gala at the Gardens
DESCRIPTION:Each year the Mendocino Coast Botanical Gardens hosts a grand event to kick off the holiday season. You are invited to an exclusive viewing of the Gardens aglow during their annual holiday soir e. Toast to a great year\, eat\, drink\, and be merry. The big tent will be transformed into a festive gathering place wrapped in a warm glow of red and gold\, complete with music\, drink\, and sumptuous bites. This year will also include spirited signature cocktails and an intriguingly interactive way to capture the memories. All proceeds from this fundraiser event help to support Festival of Lights at the Mendocino Coast Botanical Gardens. Visit www.gardenbythesea.org for more details.
X-ALT-DESC;FMTTYPE=text/html:Each year the Mendocino Coast Botanical Gardens hosts a grand event to kick off the holiday season. You are invited to an exclusive viewing of the Gardens aglow during their annual holiday soir&eacute\;e. Toast to a great year\, eat\, drink\, and be merry. The big tent will be transformed into a festive gathering place wrapped in a warm glow of red and gold\, complete with music\, drink\, and sumptuous bites. This year will also include spirited signature cocktails and an intriguingly interactive way to capture the memories. All proceeds from this fundraiser event help to support Festival of Lights at the Mendocino Coast Botanical Gardens. Visit www.gardenbythesea.org for more details.
LOCATION:Mendocino Coast Botanical Gardens 18220 N Hwy 1\, Fort Bragg CA
UID:e.2883.12504
SEQUENCE:3
DTSTAMP:20260422T011530Z
URL:http://mendocinocoast.smartcms.site/events/details/gala-at-the-gardens-11-23-2019-12504
END:VEVENT

END:VCALENDAR
