BEGIN:VCALENDAR
VERSION:2.0
PRODID:-//ChamberMaster//Event Calendar 2.0//EN
METHOD:PUBLISH
X-PUBLISHED-TTL:P3D
REFRESH-INTERVAL:P3D
CALSCALE:GREGORIAN
BEGIN:VEVENT
DTSTART:20161114T143000Z
DTEND:20161114T170000Z
X-MICROSOFT-CDO-ALLDAYEVENT:FALSE
SUMMARY:Gala 2016
DESCRIPTION:Are you attending the premier black and white event of the season?The 2016 Festival of Lights Gala at Mendocino Coast Botanical GardensWednesday\, November 30th\, 2016\nFrom 5:30pm to 8:00pm\nMendo-chic black and white attireÂ isÂ favored. Tickets are limited!In a celebration of light in the dark\, join us for live music\, drinks\, and scrumptious bites. In a color scheme of black and white\, this societal affair will radiate elegance and refinement on the often blustery Mendocino Coast bringing a chance of laughter and playfulness to the attendees. The darkness will not only be shattered by the warmth and comfort of the party\,Â but also expounded by the gaiety of the Gardens exploding with a brilliance of opulent lights and color.Plan for an evening of treats and surprises for all the senses.Tickets are $100 each and can be purchased by calling 707-964-4352 ext 10 or you can buy them in person at The Garden Store at Mendocino Coast Botanical Gardens.
X-ALT-DESC;FMTTYPE=text/html:<h1><span style="font-family:&quot\;book antiqua&quot\;\, palatino\;"><em>Are you attending the premier black and white event of the season?</em></span></h1><h3><span style="font-size:medium\;font-family:&quot\;book antiqua&quot\;\, palatino\;"><em>The 2016 Festival of Lights Gala at Mendocino Coast Botanical Gardens</em></span></h3><p><span style="font-size:medium\;font-family:&quot\;book antiqua&quot\;\, palatino\;"><strong>Wednesday\, November 30th\, 2016</strong></span><br /><span style="font-size:medium\;font-family:&quot\;book antiqua&quot\;\, palatino\;"><strong>From 5:30pm to 8:00pm</strong></span><br /><span style="font-size:medium\;font-family:&quot\;book antiqua&quot\;\, palatino\;"><strong><em>Mendo-chic black and white attireÂ isÂ favored. Tickets are limited!</em></strong></span></p><p><span style="font-size:medium\;font-family:&quot\;book antiqua&quot\;\, palatino\;">In a celebration of light in the dark\, join us for live music\, drinks\, and scrumptious bites. In a color scheme of black and white\, this societal affair will radiate elegance and refinement on the often blustery Mendocino Coast bringing a chance of laughter and playfulness to the attendees. The darkness will not only be shattered by the warmth and comfort of the</span><span style="font-family:&quot\;book antiqua&quot\;\, palatino\;"> </span><span style="font-family:&quot\;book antiqua&quot\;\, palatino\;font-size:medium\;">party\,Â but also expounded by the gaiety of the Gardens exploding with a brilliance of opulent lights and color.</span></p><p><span style="font-size:medium\;font-family:&quot\;book antiqua&quot\;\, palatino\;">Plan for an evening of treats and surprises for all the senses.</span></p><p><span style="font-size:medium\;font-family:&quot\;book antiqua&quot\;\, palatino\;"><em><strong>Tickets are $100 each and can be purchased by calling 707-964-4352 ext 10 or you can buy them in person at The Garden Store at Mendocino Coast Botanical Gardens.</strong></em></span></p>
LOCATION:Mendocino Coast Botanical Gardens Fort Bragg
UID:e.2883.1063
SEQUENCE:3
DTSTAMP:20260424T141444Z
URL:http://mendocinocoast.smartcms.site/events/details/gala-2016-11-14-2016-1063
END:VEVENT

END:VCALENDAR
