BEGIN:VCALENDAR
VERSION:2.0
PRODID:-//ChamberMaster//Event Calendar 2.0//EN
METHOD:PUBLISH
X-PUBLISHED-TTL:P3D
REFRESH-INTERVAL:P3D
CALSCALE:GREGORIAN
BEGIN:VEVENT
DTSTART;VALUE=DATE:20170418
DTEND;VALUE=DATE:20170419
TRANSP:TRANSPARENT
X-MICROSOFT-CDO-ALLDAYEVENT:TRUE
SUMMARY:Friends\, Fur\, Fun Festival
DESCRIPTION:Adoptions\, silent auction\, yard sale & much more!Friday 4/28 11-3pmSaturday 4/29 11-7pmJust south of the Botanical Gardens (next to Mara's Coffehouse) 18180 B North Highway 1\, Fort BraggSupport your local animal groups in one great weekend. Call (707) 969-7781 or join the Friends\, Fur\, Fun Event page on Facebook for more information!
X-ALT-DESC;FMTTYPE=text/html:<p>Adoptions\, silent auction\, yard sale &amp\; much more!</p><p>Friday 4/28 11-3pm</p><p>Saturday 4/29 11-7pm</p><p>Just south of the Botanical Gardens (next to Mara's Coffehouse) 18180 B North Highway 1\, Fort Bragg</p><p>Support your local animal groups in one great weekend. Call (707) 969-7781 or join the Friends\, Fur\, Fun Event page on Facebook for more information!</p>
LOCATION:Coast Cat Project Fort Bragg
UID:e.2883.1187
SEQUENCE:3
DTSTAMP:20260424T061152Z
URL:http://mendocinocoast.smartcms.site/events/details/friends-fur-fun-festival-04-18-2017-1187
END:VEVENT

END:VCALENDAR
