BEGIN:VCALENDAR
VERSION:2.0
PRODID:-//ChamberMaster//Event Calendar 2.0//EN
METHOD:PUBLISH
X-PUBLISHED-TTL:P3D
REFRESH-INTERVAL:P3D
CALSCALE:GREGORIAN
BEGIN:VEVENT
DTSTART:20200908T000000Z
DTEND:20200908T030000Z
X-MICROSOFT-CDO-ALLDAYEVENT:FALSE
SUMMARY:Friday Night Blues & Jazz at Noyo River Grill
DESCRIPTION:On Friday\, August 7th at 5:00 PM\, Earl Oliver will be the featured performer for the evening. Noyo River Grill is located in Noyo Harbor at 32150 N Harbor Dr\, Fort Bragg\, CA.
X-ALT-DESC;FMTTYPE=text/html:On Friday\, August 7th at 5:00 PM\, Earl Oliver will be the featured performer for the evening. Noyo River Grill is located in Noyo Harbor at 32150 N Harbor Dr\, Fort Bragg\, CA.
LOCATION:Noyo River Grill - 32150 N Harbor Dr\, Fort Bragg\, CA.
UID:e.2883.12921
SEQUENCE:3
DTSTAMP:20260421T080539Z
URL:http://mendocinocoast.smartcms.site/events/details/friday-night-blues-jazz-at-noyo-river-grill-12921
END:VEVENT

END:VCALENDAR
