BEGIN:VCALENDAR
VERSION:2.0
PRODID:-//ChamberMaster//Event Calendar 2.0//EN
METHOD:PUBLISH
X-PUBLISHED-TTL:P3D
REFRESH-INTERVAL:P3D
CALSCALE:GREGORIAN
BEGIN:VEVENT
DTSTART:20190605T180000Z
DTEND:20190605T190000Z
X-MICROSOFT-CDO-ALLDAYEVENT:FALSE
SUMMARY:Free Webinar: OppSites PlaceMaking Marketplace
DESCRIPTION:As your link to economic development tools and organizations\, EDFC is partnering with OppSites to bring you a free webinar on how to use their new investment-attracting tool. In order to help promote Opportunity Zones in California\, the State has contracted with OppSites to provide an online tool that connects businesses\, developers\, and economic opportunities with investors and Qualified Opportunity Funds accross the nation. Oppsites can help promote business\, housing development\, and real estate opportunities (regardless of whether they are in an Opportunity Zone) and keep our public-private partners informed of opportunities to improve the places we live\, work\, invest\, and do business. The webinar will include an online demonstration of OppSites and a "how to" on using the site for your projects. Please join the webinar from a desktop or laptop computer for the best viewing experience. Register here: https://register.gotowebinar.com/register/2150801273282514445 Please send your questions\, comments and feedback to: ian@oppsites.com
X-ALT-DESC;FMTTYPE=text/html:As your link to economic development tools and organizations\, EDFC is partnering with OppSites to bring you a free webinar on how to use their new investment-attracting tool. In order to help promote Opportunity Zones in California\, the State has contracted with OppSites to provide an online tool that connects businesses\, developers\, and economic opportunities with investors and Qualified Opportunity Funds accross the nation. Oppsites can help promote business\, housing development\, and real estate opportunities (regardless of whether they are in an Opportunity Zone) and keep our public-private partners informed of opportunities to improve the places we live\, work\, invest\, and do business. The webinar will include an online demonstration of OppSites and a &quot\;how to&quot\; on using the site for your projects. Please join the webinar from a desktop or laptop computer for the best viewing experience. Register here: https://register.gotowebinar.com/register/2150801273282514445 Please send your questions\, comments and feedback to: ian@oppsites.com
LOCATION:Online Only
UID:e.2883.11696
SEQUENCE:3
DTSTAMP:20260422T094247Z
URL:http://mendocinocoast.smartcms.site/events/details/free-webinar-oppsites-placemaking-marketplace-11696
END:VEVENT

END:VCALENDAR
