BEGIN:VCALENDAR
VERSION:2.0
PRODID:-//ChamberMaster//Event Calendar 2.0//EN
METHOD:PUBLISH
X-PUBLISHED-TTL:P3D
REFRESH-INTERVAL:P3D
CALSCALE:GREGORIAN
BEGIN:VEVENT
DTSTART;VALUE=DATE:20190615
DTEND;VALUE=DATE:20190616
TRANSP:TRANSPARENT
X-MICROSOFT-CDO-ALLDAYEVENT:TRUE
SUMMARY:Free Guided Walks at MacKerricher and Mendocino Headlands State Parks
DESCRIPTION:The Mendocino Area Parks Association offers free guided walks every Saturday (11:00 at MacKerricher\, meet at the Visitor Center\; 1:00 Mendocino Headlands\, meet at the Ford House). Enjoy breathtaking views while taking in a variety of interpretive activities\, covering everything from flora\, fauna\, land\, sea\, and history! $5.00 suggested donation\, kids always free!
X-ALT-DESC;FMTTYPE=text/html:The Mendocino Area Parks Association offers free guided walks every Saturday (11:00 at MacKerricher\, meet at the Visitor Center\; 1:00 Mendocino Headlands\, meet at the Ford House). Enjoy breathtaking views while taking in a variety of interpretive activities\, covering everything from flora\, fauna\, land\, sea\, and history! $5.00 suggested donation\, kids always free!
LOCATION:11:00 at MacKerricher\, meet at the Visitor Center\; 1:00 Mendocino Headlands\, meet at the Ford House
UID:e.2883.11693
SEQUENCE:3
DTSTAMP:20260422T094405Z
URL:http://mendocinocoast.smartcms.site/events/details/free-guided-walks-at-mackerricher-and-mendocino-headlands-state-parks-06-15-2019-11693
END:VEVENT

END:VCALENDAR
