BEGIN:VCALENDAR
VERSION:2.0
PRODID:-//ChamberMaster//Event Calendar 2.0//EN
METHOD:PUBLISH
X-PUBLISHED-TTL:P3D
REFRESH-INTERVAL:P3D
CALSCALE:GREGORIAN
BEGIN:VEVENT
DTSTART:20180809T160000Z
DTEND:20180809T200000Z
X-MICROSOFT-CDO-ALLDAYEVENT:FALSE
SUMMARY:Free Food Safety Modernization Act Workshop
DESCRIPTION:The Center for Economic Development\, funded in part by California Manufacturing Technology Consulting {CMTC) will host a FREE informational session regarding the new regulations in the Food Safety Modernization Act {FSMA) and technical assistance for food manufacturers and processors.
X-ALT-DESC;FMTTYPE=text/html:The Center for Economic Development\, funded in part by California Manufacturing Technology Consulting {CMTC) will host a FREE informational session regarding the new regulations in the Food Safety Modernization Act {FSMA) and technical assistance for food manufacturers and processors.
LOCATION:Humboldt Bay Aquatic Center 921 Waterfront Dr Eureka\, CA 95501
UID:e.2883.9148
SEQUENCE:3
DTSTAMP:20260423T022843Z
URL:http://mendocinocoast.smartcms.site/events/details/free-food-safety-modernization-act-workshop-9148
END:VEVENT

END:VCALENDAR
