BEGIN:VCALENDAR
VERSION:2.0
PRODID:-//ChamberMaster//Event Calendar 2.0//EN
METHOD:PUBLISH
X-PUBLISHED-TTL:P3D
REFRESH-INTERVAL:P3D
CALSCALE:GREGORIAN
BEGIN:VEVENT
DTSTART:20190420T170000Z
DTEND:20190420T172000Z
X-MICROSOFT-CDO-ALLDAYEVENT:FALSE
SUMMARY:FREE EASTER EGG HUNT
DESCRIPTION:Kids from ages 0 through 10 come and enjoy the FREE Easter Egg Hunt at the Track Field (between Redwood School and CV Starr)\nSaturday\, April 20th\n10 AM\nThe Easter Bunny will be there!\nCoffee available for sale for parents!\n40 grand prizes!\nAnd don't forget the CV Starr Easter Egg Hunt immediately following!  Fee applies for those that are not members
X-ALT-DESC;FMTTYPE=text/html:Kids from ages 0 through 10 come and enjoy the FREE Easter Egg Hunt at the Track Field (between Redwood School and CV Starr)\nSaturday\, April 20th\n10 AM\nThe Easter Bunny will be there!\nCoffee available for sale for parents!\n40 grand prizes!\nAnd don't forget the CV Starr Easter Egg Hunt immediately following!  Fee applies for those that are not members
LOCATION:Track field between Redwood Elementary and CV Starr
UID:e.2883.11394
SEQUENCE:3
DTSTAMP:20260422T125013Z
URL:http://mendocinocoast.smartcms.site/events/details/free-easter-egg-hunt-11394
END:VEVENT

END:VCALENDAR
