BEGIN:VCALENDAR
VERSION:2.0
PRODID:-//ChamberMaster//Event Calendar 2.0//EN
METHOD:PUBLISH
X-PUBLISHED-TTL:P3D
REFRESH-INTERVAL:P3D
CALSCALE:GREGORIAN
BEGIN:VEVENT
DTSTART:20190302T020000Z
DTEND:20190302T030000Z
X-MICROSOFT-CDO-ALLDAYEVENT:FALSE
SUMMARY:FREE Concert featuring Hungrytown
DESCRIPTION:American Folk Duo\, Hungrytown\, will be performing at Fort Bragg Library on First Friday\, March 1\, 2019. This world-renowned couple has been featured on IFC's Portlandia\, Comedy Central's The Daily Show and on the Netflix original Lady Dynamite. Stop by for some great music with Hungrytown before heading off on your gallery walk.
X-ALT-DESC;FMTTYPE=text/html:American Folk Duo\, Hungrytown\, will be performing at Fort Bragg Library on First Friday\, March 1\, 2019. This world-renowned couple has been featured on IFC&#39\;s Portlandia\, Comedy Central&#39\;s The Daily Show and on the Netflix original Lady Dynamite. Stop by for some great music with Hungrytown before heading off on your gallery walk.
LOCATION:Fort Bragg Library 499 E Laurel St Fort Bragg\, CA 95437
UID:e.2883.11308
SEQUENCE:3
DTSTAMP:20260422T143927Z
URL:http://mendocinocoast.smartcms.site/events/details/free-concert-featuring-hungrytown-11308
END:VEVENT

END:VCALENDAR
