BEGIN:VCALENDAR
VERSION:2.0
PRODID:-//ChamberMaster//Event Calendar 2.0//EN
METHOD:PUBLISH
X-PUBLISHED-TTL:P3D
REFRESH-INTERVAL:P3D
CALSCALE:GREGORIAN
BEGIN:VEVENT
DTSTART;VALUE=DATE:20201126
DTEND;VALUE=DATE:20201127
TRANSP:TRANSPARENT
X-MICROSOFT-CDO-ALLDAYEVENT:TRUE
SUMMARY:Free Community Thanksgiving Meal
DESCRIPTION:The Fort Bragg Presbyterian Church hosts its 24th annual COMMUNITY THANKSGIVING MEAL on Thursday\, Nov. 26. Due to the pandemic\, the (free) meal will be served as a picnic box lunch\, available for delivery to your home (from Cleone to Albion) or curbside pickup at the church (367 S. Sanderson Way\, FB). Reservations are required by Nov. 24 for both. Call Eve at 707-478-7212\, or order online at http://www.fortbraggpresbyterian.org/ctd/. To volunteer\, visit http://www.fortbraggpresbyterian.org/ctd/ or contact Gary at FortBraggPresbyterian@gmail.com. To donate toward needed pies (we can't accept homemade this year due to COVID-19 protocols)\, you can contribute (in any amount) to our dessert fund during checkout at Harvest FB and Mendosa's\, or at the customer service booth at Safeway. Or visit A Sweet Affair Patisserie's online store (https://www.asweetaffairpatisserie.com/online-store) to purchase one or more servings.
X-ALT-DESC;FMTTYPE=text/html:The Fort Bragg Presbyterian Church hosts its 24th annual COMMUNITY THANKSGIVING MEAL on Thursday\, Nov. 26. Due to the pandemic\, the (free) meal will be served as a picnic box lunch\, available for delivery to your home (from Cleone to Albion) or curbside pickup at the church (367 S. Sanderson Way\, FB). Reservations are required by Nov. 24 for both. Call Eve at 707-478-7212\, or order online at http://www.fortbraggpresbyterian.org/ctd/. To volunteer\, visit http://www.fortbraggpresbyterian.org/ctd/ or contact Gary at FortBraggPresbyterian@gmail.com. To donate toward needed pies (we can&#39\;t accept homemade this year due to COVID-19 protocols)\, you can contribute (in any amount) to our dessert fund during checkout at Harvest FB and Mendosa&#39\;s\, or at the customer service booth at Safeway. Or visit A Sweet Affair Patisserie&#39\;s online store (https://www.asweetaffairpatisserie.com/online-store) to purchase one or more servings.
LOCATION:Fort Bragg Presbyterian Church\, 367 S. Sanderson Way\, FB (and home meal delivery from Cleone to Albion)
UID:e.2883.13030
SEQUENCE:3
DTSTAMP:20260421T045502Z
URL:http://mendocinocoast.smartcms.site/events/details/free-community-thanksgiving-meal-13030
END:VEVENT

END:VCALENDAR
