BEGIN:VCALENDAR
VERSION:2.0
PRODID:-//ChamberMaster//Event Calendar 2.0//EN
METHOD:PUBLISH
X-PUBLISHED-TTL:P3D
REFRESH-INTERVAL:P3D
CALSCALE:GREGORIAN
BEGIN:VEVENT
DTSTART:20211125T200000Z
DTEND:20211125T230000Z
X-MICROSOFT-CDO-ALLDAYEVENT:FALSE
SUMMARY:Free Community Thanksgiving Meal
DESCRIPTION:The Fort Bragg Presbyterian Church hosts its 25th annual COMMUNITY THANKSGIVING MEAL on Thursday\, Nov. 25. In keeping with continued health guidelines\, the free meal will be served as a picnic box lunch\, available for delivery to your home\, between Westport and Albion\, or curbside pickup at the church (367 S. Sanderson Way\, FB). Reservations are required by 11 a.m. on Wednesday\, Nov. 24\, for both. Call Eve at 707-478-7212\, or order online at http://www.fortbraggpresbyterian.org/ctd/. To volunteer\, visit http://www.fortbraggpresbyterian.org/ctd/ or contact Gary at FortBraggPresbyterian@gmail.com (proof of vaccination required). For more information\, visit www.fortbraggpresbyterian.org and click on the "Community Thanksgiving Meal" tab.
X-ALT-DESC;FMTTYPE=text/html:The Fort Bragg Presbyterian Church hosts its 25th annual COMMUNITY THANKSGIVING MEAL on Thursday\, Nov. 25. In keeping with continued health guidelines\, the free meal will be served as a picnic box lunch\, available for delivery to your home\, between Westport and Albion\, or curbside pickup at the church (367 S. Sanderson Way\, FB). Reservations are required by 11 a.m. on Wednesday\, Nov. 24\, for both. Call Eve at 707-478-7212\, or order online at http://www.fortbraggpresbyterian.org/ctd/. To volunteer\, visit http://www.fortbraggpresbyterian.org/ctd/ or contact Gary at FortBraggPresbyterian@gmail.com (proof of vaccination required). For more information\, visit www.fortbraggpresbyterian.org and click on the &ldquo\;Community Thanksgiving Meal&rdquo\; tab.
LOCATION:Fort Bragg Presbyterian Church (367 S. Sanderson Way)\, or home delivery
UID:e.2883.15988
SEQUENCE:3
DTSTAMP:20260420T090207Z
URL:http://mendocinocoast.smartcms.site/events/details/free-community-thanksgiving-meal-11-25-2021-15988
END:VEVENT

END:VCALENDAR
