BEGIN:VCALENDAR
VERSION:2.0
PRODID:-//ChamberMaster//Event Calendar 2.0//EN
METHOD:PUBLISH
X-PUBLISHED-TTL:P3D
REFRESH-INTERVAL:P3D
CALSCALE:GREGORIAN
BEGIN:VEVENT
DTSTART:20190712T220000Z
DTEND:20190712T230000Z
X-MICROSOFT-CDO-ALLDAYEVENT:FALSE
SUMMARY:Fratello Marionettes "The Vaudeville Follies"
DESCRIPTION:Back by popular demand\, the Fratello Marionettes will perform "The Vaudeville Follies"\, a marionette variety show in the spirit of the old-time music hall. The Fratellos are a San Francisco Bay Area theater company that makes its own hand-crafted marionettes.
X-ALT-DESC;FMTTYPE=text/html:Back by popular demand\, the Fratello Marionettes will perform &quot\;The Vaudeville Follies&quot\;\, a marionette variety show in the spirit of the old-time music hall. The Fratellos are a San Francisco Bay Area theater company that makes its own hand-crafted marionettes.
LOCATION:Fort Bragg Library
UID:e.2883.11760
SEQUENCE:3
DTSTAMP:20260422T081127Z
URL:http://mendocinocoast.smartcms.site/events/details/fratello-marionettes-the-vaudeville-follies-11760
END:VEVENT

END:VCALENDAR
