BEGIN:VCALENDAR
VERSION:2.0
PRODID:-//ChamberMaster//Event Calendar 2.0//EN
METHOD:PUBLISH
X-PUBLISHED-TTL:P3D
REFRESH-INTERVAL:P3D
CALSCALE:GREGORIAN
BEGIN:VEVENT
DTSTART:20191207T230000Z
DTEND:20191207T233000Z
X-MICROSOFT-CDO-ALLDAYEVENT:FALSE
SUMMARY:Fratello Marionettes Present Peter and the Wolf
DESCRIPTION:Who's pulling the strings? The Fratello Marionettes\, well known and well-loved in Fort Bragg\, return with Peter and the Wolf. Come\, visit the forest home of Peter and his grandfather\, listen to the debate between the bird and the duck\, and see how the hunters capture the wolf. Accompanied by the majestic score of Sergei Prokofiev\, it's the perfect way to introduce children to classical music and classic European puppetry. Peter and the Wolf is a must-see for the holiday season. (30 minutes)
X-ALT-DESC;FMTTYPE=text/html:Who&rsquo\;s pulling the strings? The Fratello Marionettes\, well known and well-loved in Fort Bragg\, return with Peter and the Wolf. Come\, visit the forest home of Peter and his grandfather\, listen to the debate between the bird and the duck\, and see how the hunters capture the wolf. Accompanied by the majestic score of Sergei Prokofiev\, it&#39\;s the perfect way to introduce children to classical music and classic European puppetry. Peter and the Wolf is a must-see for the holiday season. (30 minutes)
LOCATION:Fort Bragg Library 499 Laurel St Fort Bragg\, CA 95437
UID:e.2883.12468
SEQUENCE:3
DTSTAMP:20260421T233641Z
URL:http://mendocinocoast.smartcms.site/events/details/fratello-marionettes-present-peter-and-the-wolf-12468
END:VEVENT

END:VCALENDAR
