BEGIN:VCALENDAR
VERSION:2.0
PRODID:-//ChamberMaster//Event Calendar 2.0//EN
METHOD:PUBLISH
X-PUBLISHED-TTL:P3D
REFRESH-INTERVAL:P3D
CALSCALE:GREGORIAN
BEGIN:VEVENT
DTSTART:20180804T220000Z
DTEND:20180804T223000Z
X-MICROSOFT-CDO-ALLDAYEVENT:FALSE
SUMMARY:Fratello Marionettes
DESCRIPTION:Back by popular demand! the Fratello Marionettes performing "Aladdin". See this magical tale adapted from The 1\,001 Arabian Nights as you've never seen it before\, with traditional music\, intricate costumes\, and dramatic staging. August 4\, 2018\, 3-3:30 pm
X-ALT-DESC;FMTTYPE=text/html:Back by popular demand! the Fratello Marionettes performing &quot\;Aladdin&quot\;. See this magical tale adapted from The 1\,001 Arabian Nights as you&rsquo\;ve never seen it before\, with traditional music\, intricate costumes\, and dramatic staging. August 4\, 2018\, 3-3:30 pm
LOCATION:Fort Bragg Library 499 E Laurel St Fort Bragg
UID:e.2883.9143
SEQUENCE:3
DTSTAMP:20260423T022935Z
URL:http://mendocinocoast.smartcms.site/events/details/fratello-marionettes-9143
END:VEVENT

END:VCALENDAR
