BEGIN:VCALENDAR
VERSION:2.0
PRODID:-//ChamberMaster//Event Calendar 2.0//EN
METHOD:PUBLISH
X-PUBLISHED-TTL:P3D
REFRESH-INTERVAL:P3D
CALSCALE:GREGORIAN
BEGIN:VEVENT
DTSTART:20200407T160000Z
DTEND:20200407T180000Z
X-MICROSOFT-CDO-ALLDAYEVENT:FALSE
SUMMARY:Foundations of Finance
DESCRIPTION:Your financial statements are the single most revealing picture of your business. Knowing your numbers can help you cut costs and aid you in decision making. If you are not clear on the money coming in and going out you could be losing money or wasting valuable time. Whether you are new in business or have been in business for years this workshop will teach you the basic principles that make up the four key financial reports every business owner needs. This includes income statements\, balance sheets\, budgets\, and a cash plan. Learn how they are built\, what they mean\, and how you should be using these reports in your business. Join us for our workshop\, Foundations of Finance as we dive into learning how to understand the key financial statements\, strategy for missing statements and key tools for financial success.
X-ALT-DESC;FMTTYPE=text/html:Your financial statements are the single most revealing picture of your business. Knowing your numbers can help you cut costs and aid you in decision making. If you are not clear on the money coming in and going out you could be losing money or wasting valuable time. Whether you are new in business or have been in business for years this workshop will teach you the basic principles that make up the four key financial reports every business owner needs. This includes income statements\, balance sheets\, budgets\, and a cash plan. Learn how they are built\, what they mean\, and how you should be using these reports in your business. Join us for our workshop\, Foundations of Finance as we dive into learning how to understand the key financial statements\, strategy for missing statements and key tools for financial success.
LOCATION:345 N Franklin St. Fort Bragg\, CA
UID:e.2883.12889
SEQUENCE:3
DTSTAMP:20260421T172944Z
URL:http://mendocinocoast.smartcms.site/events/details/foundations-of-finance-12889
END:VEVENT

END:VCALENDAR
