BEGIN:VCALENDAR
VERSION:2.0
PRODID:-//ChamberMaster//Event Calendar 2.0//EN
METHOD:PUBLISH
X-PUBLISHED-TTL:P3D
REFRESH-INTERVAL:P3D
CALSCALE:GREGORIAN
BEGIN:VEVENT
DTSTART:20190316T180000Z
DTEND:20190316T230000Z
X-MICROSOFT-CDO-ALLDAYEVENT:FALSE
SUMMARY:Fort Bragg Whale Festival
DESCRIPTION:Enjoy Wine\, Chowder and Craft Beer tasting while visiting our local shops and Inns\, and whale watch from the Coastal Trail in Fort Bragg\, as well as from miles of beaches. Tickets can be bought online for the chowder\, wine\, and beer tasting at Brown Paper Tickets.\n\n\n\n\n\nChowder Tasting Enjoy a variety of chowders ranging from traditional to not so traditional! Our Chowder Tasting will feature chowders from various local restaurants - and you can be there to taste them all! \n\nWhen: Saturday\, March 16th from 11:00am - 1:00pm or until the chowder runs out.\n\nWhere: Masonic Hall\, Fort Bragg\, CA  \n\nTickets for the chowder tasting are $10 and can be bought online at Brown Paper Tickets\, at the Mendocino Coast Chamber office at 217 S Main Street\, Fort Bragg\, and at the venue. \n\n \nBeer Tasting Craft Brews from North Coast Brewing Company are only $5 and include a FREE 3 oz. pour of North Coast Brewing Company's newest beer!\n\nWhen: Saturday\, March 16th from 11:00am - 1:00pm or until beer runs out.\n\nWhere: Masonic Hall\, Fort Bragg\, CA   \n\nTickets are $5 and can be purchased online at Brown Paper Tickets\, at the Mendocino Coast Chamber office at 217 S Main Street\, Fort Bragg\, and at the venue.\n\nDon't forget your ID! \n\n\n\n \n\nWine Tasting: Over a dozen wineries From Mendocino County come together to pour wine for tasters in Downtown Fort Bragg.\n\nWhen: Saturday\, March 16th from 1:00pm-4:00pm\n\nWhere: Various locations\, Check-in at Masonic Hall in Fort Bragg\, CA  \n\nTickets are $35 pre-sale and can be bought online at Brown Paper Tickets or at the Mendocino Coast Chamber office at 217 S Main Street\, Fort Bragg. \n\nYou can also purchase your ticket on the date itself for $40\; tickets will be available at the Masonic Center where you will also be able to pick up your Mendo Whale wine glass/es.\n\nRemember to bring your ID!
X-ALT-DESC;FMTTYPE=text/html:<span style="font-family: Arial\, &quot\;Helvetica Neue&quot\;\, Helvetica\, sans-serif\; font-size: 16px\; background-color: rgba(255\, 255\, 255\, 0.94)\;">Enjoy Wine\, Chowder and Craft Beer tasting while visiting our local shops and Inns\, and whale watch from the Coastal Trail in Fort Bragg\, as well as from miles of beaches. Tickets can be bought online for the chowder\, wine\, and beer tasting at&nbsp\;</span><a href="http://www.brownpapertickets.com/browse.html?keywords=whale+festival+fort+bragg&amp\;sortby=name%20" style="color: rgb(30\, 163\, 194)\; box-sizing: border-box\; background-color: transparent\; text-decoration-line: none\; font-family: Arial\, &quot\;Helvetica Neue&quot\;\, Helvetica\, sans-serif\; font-size: 16px\;" target="_blank">Brown Paper Tickets</a><span style="font-family: Arial\, &quot\;Helvetica Neue&quot\;\, Helvetica\, sans-serif\; font-size: 16px\; background-color: rgba(255\, 255\, 255\, 0.94)\;">.</span><br />\n<br />\n<br />\n<strong style="box-sizing: border-box\; font-family: Arial\, &quot\;Helvetica Neue&quot\;\, Helvetica\, sans-serif\; font-size: 1rem\;">Chowder Tasting</strong><span style="box-sizing: border-box\; font-family: Arial\, &quot\;Helvetica Neue&quot\;\, Helvetica\, sans-serif\; font-size: 1rem\;">&nbsp\;</span><span style="box-sizing: border-box\; font-family: Arial\, &quot\;Helvetica Neue&quot\;\, Helvetica\, sans-serif\; font-size: 1rem\;">Enjoy a variety of chowders ranging from traditional to not so traditional! Our&nbsp\;</span><strong style="box-sizing: border-box\; font-family: Arial\, &quot\;Helvetica Neue&quot\;\, Helvetica\, sans-serif\; font-size: 1rem\;">Chowder Tasting</strong><span style="box-sizing: border-box\; font-family: Arial\, &quot\;Helvetica Neue&quot\;\, Helvetica\, sans-serif\; font-size: 1rem\;">&nbsp\;will feature chowders from various local restaurants - and you can be there to taste them all!</span><span style="box-sizing: border-box\; font-family: Arial\, &quot\;Helvetica Neue&quot\;\, Helvetica\, sans-serif\; font-size: 1rem\;">&nbsp\;</span><br style="box-sizing: border-box\; font-family: Arial\, &quot\;Helvetica Neue&quot\;\, Helvetica\, sans-serif\; font-size: 16px\;" />\n<strong style="box-sizing: border-box\; font-family: Arial\, &quot\;Helvetica Neue&quot\;\, Helvetica\, sans-serif\; font-size: 16px\;">When:</strong><span style="font-family: Arial\, &quot\;Helvetica Neue&quot\;\, Helvetica\, sans-serif\; font-size: 16px\;">&nbsp\;Saturday\, March 16th&nbsp\;from 11:00am - 1:00pm or until the chowder runs out.</span><br style="box-sizing: border-box\; font-family: Arial\, &quot\;Helvetica Neue&quot\;\, Helvetica\, sans-serif\; font-size: 16px\;" />\n<strong style="box-sizing: border-box\; font-family: Arial\, &quot\;Helvetica Neue&quot\;\, Helvetica\, sans-serif\; font-size: 16px\;">Where:</strong><span style="font-family: Arial\, &quot\;Helvetica Neue&quot\;\, Helvetica\, sans-serif\; font-size: 16px\;">&nbsp\;Masonic Hall\, Fort Bragg\, CA &nbsp\;</span><br style="box-sizing: border-box\; font-family: Arial\, &quot\;Helvetica Neue&quot\;\, Helvetica\, sans-serif\; font-size: 16px\;" />\n<span style="font-family: Arial\, &quot\;Helvetica Neue&quot\;\, Helvetica\, sans-serif\; font-size: 16px\;">Tickets for the chowder tasting are $10 and can be bought online at&nbsp\;</span><a href="http://www.brownpapertickets.com/browse.html?keywords=whale+festival+mendocino&amp\;sortby=name%20" style="color: rgb(30\, 163\, 194)\; box-sizing: border-box\; background-color: transparent\; text-decoration-line: none\; font-family: Arial\, &quot\;Helvetica Neue&quot\;\, Helvetica\, sans-serif\; font-size: 16px\;" target="_blank">Brown Paper Tickets</a><span style="font-family: Arial\, &quot\;Helvetica Neue&quot\;\, Helvetica\, sans-serif\; font-size: 16px\;">\,&nbsp\;at the Mendocino Coast Chamber office at 217 S Main Street\, Fort Bragg\, and at the venue.&nbsp\;</span><br />\n&nbsp\;\n<p style="box-sizing: border-box\; margin: 0px 0px 10px\; font-size: 16px\; font-family: Arial\, &quot\;Helvetica Neue&quot\;\, Helvetica\, sans-serif\;"><strong style="box-sizing: border-box\;">Beer Tasting</strong>&nbsp\;Craft Brews from North Coast Brewing Company are only $5 and include a FREE 3 oz. pour of North Coast Brewing Company&#39\;s newest beer!<br />\n<strong style="box-sizing: border-box\;">When:</strong>&nbsp\;Saturday\, March 16th from 11:00am - 1:00pm or until beer runs out.<br style="box-sizing: border-box\;" />\n<strong style="box-sizing: border-box\;">Where:</strong>&nbsp\;Masonic Hall\, Fort Bragg\, CA &nbsp\;&nbsp\;<br style="box-sizing: border-box\;" />\nTickets are $5 and can be purchased online at&nbsp\;<a href="http://www.brownpapertickets.com/browse.html?keywords=whale+festival+mendocino&amp\;sortby=name%20" style="color: rgb(30\, 163\, 194)\; box-sizing: border-box\; background-color: transparent\; text-decoration-line: none\;" target="_blank">Brown Paper Tickets</a>\, at the&nbsp\;Mendocino Coast Chamber office at 217 S Main Street\, Fort Bragg\, and at the venue.<br style="box-sizing: border-box\;" />\n<strong style="box-sizing: border-box\;">Don&#39\;t forget your ID!&nbsp\;</strong><br />\n<br />\n&nbsp\;</p>\n\n<p style="box-sizing: border-box\; margin: 0px 0px 10px\; font-size: 16px\; font-family: Arial\, &quot\;Helvetica Neue&quot\;\, Helvetica\, sans-serif\;"><strong style="box-sizing: border-box\;"><strong style="box-sizing: border-box\;">Wine Tasting:</strong>&nbsp\;</strong>Over a dozen wineries From Mendocino County come together to pour wine for tasters in Downtown Fort Bragg.<br />\n<strong style="box-sizing: border-box\;">When:</strong>&nbsp\;Saturday\, March 16th from 1:00pm-4:00pm<br style="box-sizing: border-box\;" />\n<strong style="box-sizing: border-box\;">Where:</strong>&nbsp\;Various locations\, Check-in at Masonic Hall in&nbsp\;Fort Bragg\, CA&nbsp\;&nbsp\;</p>\n\n<p style="box-sizing: border-box\; margin: 0px 0px 10px\; font-size: 16px\; font-family: Arial\, &quot\;Helvetica Neue&quot\;\, Helvetica\, sans-serif\;">Tickets are $35 pre-sale and can be bought online at&nbsp\;<a href="http://www.brownpapertickets.com/browse.html?keywords=whale+festival+mendocino&amp\;sortby=name%20" style="color: rgb(30\, 163\, 194)\; box-sizing: border-box\; background-color: transparent\; text-decoration-line: none\;" target="_blank">Brown Paper Tickets</a>&nbsp\;or at the Mendocino Coast Chamber office at 217 S Main Street\, Fort Bragg.&nbsp\;</p>\n\n<p style="box-sizing: border-box\; margin: 0px 0px 10px\; font-size: 16px\; font-family: Arial\, &quot\;Helvetica Neue&quot\;\, Helvetica\, sans-serif\;">You can also purchase your ticket on the date itself for $40\; tickets will be available at the Masonic Center where you will also be able to pick up your Mendo Whale wine glass/es.<br style="box-sizing: border-box\;" />\n<strong style="box-sizing: border-box\;">Remember to bring your ID!</strong></p>\n
LOCATION:Masonic Hall\, 428 N. Main St\, Fort Bragg\, CA 95437
UID:e.2883.10391
SEQUENCE:3
DTSTAMP:20260422T143948Z
URL:http://mendocinocoast.smartcms.site/events/details/fort-bragg-whale-festival-10391
END:VEVENT

END:VCALENDAR
