BEGIN:VCALENDAR
VERSION:2.0
PRODID:-//ChamberMaster//Event Calendar 2.0//EN
METHOD:PUBLISH
X-PUBLISHED-TTL:P3D
REFRESH-INTERVAL:P3D
CALSCALE:GREGORIAN
BEGIN:VEVENT
DTSTART:20200111T020000Z
DTEND:20200111T050000Z
X-MICROSOFT-CDO-ALLDAYEVENT:FALSE
SUMMARY:Fort Bragg Shrine Club Crab Feed Dinner
DESCRIPTION:Menu: One whole crab or Vegetarian Lasagna\, Potato salad\, Green salad and dressing for making "Louie" and hot garlic French bread with cakes for dessert and coffee.
X-ALT-DESC;FMTTYPE=text/html:Menu: One whole crab or Vegetarian Lasagna\, Potato salad\, Green salad and dressing for making &ldquo\;Louie&rdquo\; and hot garlic French bread with cakes for dessert and coffee.
LOCATION:Fort Bragg Masonic Center\, 428 North Main Street Fort Bragg\, CA. 95437
UID:e.2883.12620
SEQUENCE:3
DTSTAMP:20260421T215438Z
URL:http://mendocinocoast.smartcms.site/events/details/fort-bragg-shrine-club-crab-feed-dinner-12620
END:VEVENT

END:VCALENDAR
