BEGIN:VCALENDAR
VERSION:2.0
PRODID:-//ChamberMaster//Event Calendar 2.0//EN
METHOD:PUBLISH
X-PUBLISHED-TTL:P3D
REFRESH-INTERVAL:P3D
CALSCALE:GREGORIAN
BEGIN:VEVENT
DTSTART:20170117T210000Z
DTEND:20170118T030000Z
X-MICROSOFT-CDO-ALLDAYEVENT:FALSE
SUMMARY:Fort Bragg Rotary-MCSF Crab Feed
DESCRIPTION:Fort Bragg Rotary-Mendocino Coast Sports Foundation Crab Feed\, Saturday January 28\, 2017.At the FB Fire House from noon-6pm. Purchase tickets at Harvest Market\, Sport Dodge\, or Pyorre Insurance. Price is 75 and includes salad\, garlic bread\, clam chowder and crab. Wine\, beer\, and desserts are also available.
X-ALT-DESC;FMTTYPE=text/html:<p><span style="white-space: pre\;"> </span>Fort Bragg Rotary-Mendocino Coast Sports Foundation Crab Feed\, Saturday January 28\, 2017.</p><p>At the FB Fire House from noon-6pm. Purchase tickets at Harvest Market\, Sport Dodge\, or Pyorre Insurance. Price is 75 and includes salad\, garlic bread\, clam chowder and crab. Wine\, beer\, and desserts are also available.<span style="white-space: pre\;"> </span></p>
LOCATION:Fire House Fort Bragg
UID:e.2883.1090
SEQUENCE:3
DTSTAMP:20260424T110028Z
URL:http://mendocinocoast.smartcms.site/events/details/fort-bragg-rotary-mcsf-crab-feed-01-17-2017-1090
END:VEVENT

END:VCALENDAR
