BEGIN:VCALENDAR
VERSION:2.0
PRODID:-//ChamberMaster//Event Calendar 2.0//EN
METHOD:PUBLISH
X-PUBLISHED-TTL:P3D
REFRESH-INTERVAL:P3D
CALSCALE:GREGORIAN
BEGIN:VEVENT
DTSTART:20190511T160000Z
DTEND:20190511T190000Z
X-MICROSOFT-CDO-ALLDAYEVENT:FALSE
SUMMARY:Fort Bragg Color Run
DESCRIPTION:What is it? : A day filled with fun for all ages! It's a fun "Run" for all ages! Come dressed in white (or not but we recommend it for the best experience)   On your mark\, get set\, GO! Run\, skip\, jump\, walk\, or even crawl along our course and through each color station! You'll no longer be white .you will be covered in colors of the rainbow and all for a great cause! If running\, walking or jumping isn't your thing ..you can still come\, watch and enjoy the day as a spectator! We will have food available for purchase and music available to dance to! Why?: A fun way to support the children of our FBUSD community for the 3rd year! Who?: Organized and brought to you by The Parents Clubs of Redwood Elementary\, Dana Gray Elementary and Fort Bragg Middle School with amazing support from many business and sponsors! MUSIC! FOOD! FUN!
X-ALT-DESC;FMTTYPE=text/html:What is it? : A day filled with fun for all ages! It&rsquo\;s a fun &ldquo\;Run&rdquo\; for all ages! Come dressed in white (or not but we recommend it for the best experience)&hellip\;&hellip\; On your mark\, get set\, GO! Run\, skip\, jump\, walk\, or even crawl along our course and through each color station! You&rsquo\;ll no longer be white&hellip\;.you will be covered in colors of the rainbow and all for a great cause! If running\, walking or jumping isn&rsquo\;t your thing&hellip\;..you can still come\, watch and enjoy the day as a spectator! We will have food available for purchase and music available to dance to! Why?: A fun way to support the children of our FBUSD community for the 3rd year! Who?: Organized and brought to you by The Parents Clubs of Redwood Elementary\, Dana Gray Elementary and Fort Bragg Middle School with amazing support from many business and sponsors! MUSIC! FOOD! FUN!
LOCATION:Timberwolf Stadium 300 Dana Street Fort Bragg\, CA 95437
UID:e.2883.11441
SEQUENCE:3
DTSTAMP:20260422T111139Z
URL:http://mendocinocoast.smartcms.site/events/details/fort-bragg-color-run-11441
END:VEVENT

END:VCALENDAR
