BEGIN:VCALENDAR
VERSION:2.0
PRODID:-//ChamberMaster//Event Calendar 2.0//EN
METHOD:PUBLISH
X-PUBLISHED-TTL:P3D
REFRESH-INTERVAL:P3D
CALSCALE:GREGORIAN
BEGIN:VEVENT
DTSTART:20230318T190000Z
DTEND:20230318T230000Z
X-MICROSOFT-CDO-ALLDAYEVENT:FALSE
SUMMARY:Fort Bragg Beer Festival
DESCRIPTION:Live music and barbeque. Taste as many beers as one wants. 21+ y.o.\, ID required. No kids\, no pets. Free bus rides. Beer novice or beer expert\, come experience beer like you never thought possible. Benefit for Fort Bragg Rotary Club\, for scholarships and local and international projects.
X-ALT-DESC;FMTTYPE=text/html:Live music and barbeque. Taste as many beers as one wants. 21+ y.o.\, ID required. No kids\, no pets. Free bus rides. Beer novice or beer expert\, come experience beer like you never thought possible. Benefit for Fort Bragg Rotary Club\, for scholarships and local and international projects.
LOCATION:Eagles Hall\, 210 N. Corry St.\, Fort Bragg.
UID:e.2883.17373
SEQUENCE:3
DTSTAMP:20260423T100202Z
URL:http://mendocinocoast.smartcms.site/events/details/fort-bragg-beer-festival-17373
END:VEVENT

END:VCALENDAR
