BEGIN:VCALENDAR
VERSION:2.0
PRODID:-//ChamberMaster//Event Calendar 2.0//EN
METHOD:PUBLISH
X-PUBLISHED-TTL:P3D
REFRESH-INTERVAL:P3D
CALSCALE:GREGORIAN
BEGIN:VEVENT
DTSTART;VALUE=DATE:20170207
DTEND;VALUE=DATE:20170208
TRANSP:TRANSPARENT
X-MICROSOFT-CDO-ALLDAYEVENT:TRUE
SUMMARY:Fort Bragg 21st Annual Beer Festival
DESCRIPTION:Saturday\, March 18th 12-4pmLive music & BBQ$30.00Historic Eagles Hall\, 210 N. Corry St.Taste some ales and watch the whales!!! More than 20 breweries to sample. 21-year old's ID required\, no kids\, no pets. Beer novice or beer expert come experience beer like you've never thought possible. A benefit for the Fort bragg Rotary Club\, for scholarships and local international projects.
X-ALT-DESC;FMTTYPE=text/html:<p>Saturday\, March 18th 12-4pm</p><p>Live music &amp\; BBQ</p><p>$30.00</p><p>Historic Eagles Hall\, 210 N. Corry St.</p><p>Taste some ales and watch the whales!!! More than 20 breweries to sample. 21-year old's ID required\, no kids\, no pets. Beer novice or beer expert come experience beer like you've never thought possible. A benefit for the Fort bragg Rotary Club\, for scholarships and local international projects.</p>
LOCATION:Eagles Hall Fort Bragg
UID:e.2883.1117
SEQUENCE:3
DTSTAMP:20260424T093818Z
URL:http://mendocinocoast.smartcms.site/events/details/fort-bragg-21st-annual-beer-festival-02-07-2017-1117
END:VEVENT

END:VCALENDAR
