BEGIN:VCALENDAR
VERSION:2.0
PRODID:-//ChamberMaster//Event Calendar 2.0//EN
METHOD:PUBLISH
X-PUBLISHED-TTL:P3D
REFRESH-INTERVAL:P3D
CALSCALE:GREGORIAN
BEGIN:VEVENT
DTSTART:20170704T180000Z
DTEND:20170704T220000Z
X-MICROSOFT-CDO-ALLDAYEVENT:FALSE
SUMMARY:Ford House 4th Of July Polish Dog Fundraiser
DESCRIPTION:Come and enjoy a polish dog\, homemade brownies\, chips and soda or water. Proceeds go towards the ongoing restoration of the historic Ford House Museum and Visitor Center. We thank our sponsors and generous donors Harvest Market\, Alegria Inn\, Dick's Place\, Rossi Building Materials\, Safeway\, Subway and All Points Real Estate.
X-ALT-DESC;FMTTYPE=text/html:<span style="font-family: Verdana\, Arial\; font-size: 11px\;">Come and enjoy a polish dog\, homemade brownies\, chips and soda or water.&nbsp\;Proceeds go towards the ongoing restoration of the historic Ford House Museum and Visitor Center. We thank our sponsors and generous donors Harvest Market\, Alegria Inn\, Dick&#39\;s Place\, Rossi Building Materials\, Safeway\, Subway and All Points Real Estate.</span>
LOCATION:Ford House in Mendocino
UID:e.2883.1540
SEQUENCE:3
DTSTAMP:20260424T012034Z
URL:http://mendocinocoast.smartcms.site/events/details/ford-house-4th-of-july-polish-dog-fundraiser-1540
END:VEVENT

END:VCALENDAR
