BEGIN:VCALENDAR
VERSION:2.0
PRODID:-//ChamberMaster//Event Calendar 2.0//EN
METHOD:PUBLISH
X-PUBLISHED-TTL:P3D
REFRESH-INTERVAL:P3D
CALSCALE:GREGORIAN
BEGIN:VEVENT
DTSTART:20200412T020000Z
DTEND:20200412T043000Z
X-MICROSOFT-CDO-ALLDAYEVENT:FALSE
SUMMARY:Fo Fera Live in Fort Bragg
DESCRIPTION:Fo Fera returns to Fort Bragg for the first time in 2020\, with new songs\, and a positive new direction. Fo Fera's freeform melodies have been compared to the likes of Patti Smith\, Laura Nyro\, and Aldous Harding. Touching on challenging topics in life such as loss\, heartbreak\, and mental health\, she sheds light on the darkest corners of our inner thoughts with her music.
X-ALT-DESC;FMTTYPE=text/html:Fo Fera returns to Fort Bragg for the first time in 2020\, with new songs\, and a positive new direction. Fo Fera&rsquo\;s freeform melodies have been compared to the likes of Patti Smith\, Laura Nyro\, and Aldous Harding. Touching on challenging topics in life such as loss\, heartbreak\, and mental health\, she sheds light on the darkest corners of our inner thoughts with her music.
LOCATION:Headlands Coffeehouse 120 E Laurel St\, Fort Bragg\, CA 95437
UID:e.2883.12891
SEQUENCE:3
DTSTAMP:20260421T173010Z
URL:http://mendocinocoast.smartcms.site/events/details/fo-fera-live-in-fort-bragg-04-11-2020-12891
END:VEVENT

END:VCALENDAR
