BEGIN:VCALENDAR
VERSION:2.0
PRODID:-//ChamberMaster//Event Calendar 2.0//EN
METHOD:PUBLISH
X-PUBLISHED-TTL:P3D
REFRESH-INTERVAL:P3D
CALSCALE:GREGORIAN
BEGIN:VEVENT
DTSTART:20180831T020000Z
DTEND:20180903T230000Z
X-MICROSOFT-CDO-ALLDAYEVENT:FALSE
SUMMARY:Flynn Creek Circus Presents: "Adrift"
DESCRIPTION:Flynn Creek Circus returns to Fort Bragg with an ALL NEW show for 2018. Flynn Creek Circus will be setting up their big top tent in Fort Bragg for our final stop of the season! Shows will be held August 31st   September 3rd next to Mendocino College at 20300 Ocean View Dr. Come experience a circus sea odyssey featuring international award winning acts from France\, Brazil\, and Las Vegas! Acrobats\, aerialists\, jugglers\, comedians\, and more will delight and inspire you throughout our seafaring adventure. The Adults Only show is back again on Saturday night for ages 18+ if you are seeking amazing circus acts with a twist and a fun night out! Discounted group rates are available for local business leaders to enjoy the show with families\, employees\, clients\, and community. Contact Nicole at nicole@flynncreekcircus.com to learn more. To learn more about the artists and show-times visit www.flynncreekcircus.com and find us on Facebook.
X-ALT-DESC;FMTTYPE=text/html:Flynn Creek Circus returns to Fort Bragg with an ALL NEW show for 2018. Flynn Creek Circus will be setting up their big top tent in Fort Bragg for our final stop of the season! Shows will be held August 31st &ndash\; September 3rd next to Mendocino College at 20300 Ocean View Dr. Come experience a circus sea odyssey featuring international award winning acts from France\, Brazil\, and Las Vegas! Acrobats\, aerialists\, jugglers\, comedians\, and more will delight and inspire you throughout our seafaring adventure. The Adults Only show is back again on Saturday night for ages 18+ if you are seeking amazing circus acts with a twist and a fun night out! Discounted group rates are available for local business leaders to enjoy the show with families\, employees\, clients\, and community. Contact Nicole at nicole@flynncreekcircus.com to learn more. To learn more about the artists and show-times visit www.flynncreekcircus.com and find us on Facebook.
LOCATION:next to Mendocino College at 20300 Ocean View Dr.
UID:e.2883.9359
SEQUENCE:3
DTSTAMP:20260423T003545Z
URL:http://mendocinocoast.smartcms.site/events/details/flynn-creek-circus-presents-adrift-9359
END:VEVENT

END:VCALENDAR
