BEGIN:VCALENDAR
VERSION:2.0
PRODID:-//ChamberMaster//Event Calendar 2.0//EN
METHOD:PUBLISH
X-PUBLISHED-TTL:P3D
REFRESH-INTERVAL:P3D
CALSCALE:GREGORIAN
BEGIN:VEVENT
DTSTART;VALUE=DATE:20190702
DTEND;VALUE=DATE:20190707
TRANSP:TRANSPARENT
X-MICROSOFT-CDO-ALLDAYEVENT:TRUE
SUMMARY:Flynn Creek Circus "Out of Hat'
DESCRIPTION:Down the rabbit hole we go with Amelia Van Brunt as the magician's rabbit...Join us for an original comic tale told from the rabbit's perspective as she explores the physics of magic and the magic of physics.  Revolutionist bunnies\, a sinister magician\, a two headed girl and animal control agents collide in a hilarious quest to get the rabbit back in the hat.   Fundamentally\, Flynn Creek Circus' 2019 show\, 'Out of Hat' is  just a flimsy plot line built to deliver explosively entertaining acrobatics\, aerial stunts and feats of skill that require decades of passionate dedication .  In true Flynn Creek Circus style\, 'Out of Hat'  is charmingly self aware\, raw\, edgy\, sometimes profound  and yet entirely family friendly (except that adult showing).   Don't let the vintage (aka rough) exterior fool you.  'Out of Hat' brings Internationally award winning performers to an intimate setting for a truly authentic theater experience.  This year's show features  Kris and Harrison Kremo from Switzerland.   These world famous 'gentlemen jugglers' (if you don't believe us\,  google them!) will charm your socks off....speaking of  'off'... Las Vegas acrobatic troupe\, Off Axis\, will return with an  all new\, jaw dropping act for 2019.  All flippedness aside (haha..flippedness..there will definitely be some flips...did you get the pun?  Is flippedness even a word?)\, 'Out of Hat' will blow your mind!  \n\nNo host bar available at all showings.  Proceeds benefit Circus Mentors Inc 501c3
X-ALT-DESC;FMTTYPE=text/html:<p style="text-align:justify">Down the rabbit hole we go with Amelia Van Brunt as the magician&#39\;s rabbit...Join us for an original comic tale told from the rabbit&#39\;s perspective as she explores the physics of magic and the magic of physics. &nbsp\;Revolutionist bunnies\, a sinister magician\, a two headed girl and animal control agents collide in a hilarious quest to get the rabbit back in the hat. &nbsp\; Fundamentally\, Flynn Creek Circus&#39\; 2019 show\,&nbsp\;<em>&#39\;Out of Hat&#39\;</em>&nbsp\;is &nbsp\;just a flimsy plot line built to deliver explosively entertaining acrobatics\, aerial stunts and feats of skill that require decades of passionate dedication . &nbsp\;In true Flynn Creek Circus style\,&nbsp\;<strong>&#39\;</strong><em>Out of Hat&#39\;</em>&nbsp\; is charmingly self aware\, raw\, edgy\, sometimes profound &nbsp\;and yet entirely family friendly (except that adult showing). &nbsp\; Don&#39\;t let the vintage (aka rough) exterior fool you. &nbsp\;&#39\;<em>Out of Hat&#39\;</em>&nbsp\;brings Internationally award winning performers to an intimate setting for a truly authentic theater experience. &nbsp\;This year&#39\;s show features &nbsp\;Kris and Harrison Kremo from Switzerland. &nbsp\; These world famous &#39\;gentlemen jugglers&#39\; (if you don&#39\;t believe us\, &nbsp\;google them!) will charm your socks off....speaking of &nbsp\;&#39\;off&#39\;... Las Vegas acrobatic troupe\, Off Axis\, will return with an &nbsp\;all new\, jaw dropping act for 2019. &nbsp\;All flippedness aside (haha..flippedness..there will definitely be some flips...did you get the pun? &nbsp\;Is flippedness even a word?)\,&nbsp\;<em>&#39\;Out of Hat</em>&#39\;&nbsp\;<strong>will blow your mind! &nbsp\;</strong></p>\n\n<p style="text-align:center"><em><strong>No host bar available at all showings. &nbsp\;Proceeds benefit Circus Mentors Inc 501c3</strong></em></p>\n
LOCATION:Flynn Creek Circus Big Top at Friendship Park 998 School St Mendocino\, CA 95460
UID:e.2883.11771
SEQUENCE:3
DTSTAMP:20260422T081028Z
URL:http://mendocinocoast.smartcms.site/events/details/flynn-creek-circus-out-of-hat-11771
END:VEVENT

END:VCALENDAR
