BEGIN:VCALENDAR
VERSION:2.0
PRODID:-//ChamberMaster//Event Calendar 2.0//EN
METHOD:PUBLISH
X-PUBLISHED-TTL:P3D
REFRESH-INTERVAL:P3D
CALSCALE:GREGORIAN
BEGIN:VEVENT
DTSTART:20180218T030000Z
DTEND:20180218T060000Z
X-MICROSOFT-CDO-ALLDAYEVENT:FALSE
SUMMARY:Flirting with the '40s Swing Dance!
DESCRIPTION:Swing dance to THE SWING DOCTORS!\n\nFebruary 17 2018\n\n7 PM - 10 PM\n\nMasonic Center - 428 North Main Street\n\n\n\nSwing is king on the California coast!\n\nAbout THE SWING DOCTORS\n\n\n\nFrom Fort Bragg CA\, The Swing Doctors Play a mix of fun dancing music from the 40's\, with a little of the 50's just for kicks.\n\n\n\nRoanna Olds - vocals. Roanna is the driving force behind the band. She is a consumate professional\, until Nick tries to distract her so she forgets her lyrics. She loves to travel\, so you might run into her in L.A.\, Montana or even Canada.\n\n\n\nNick Rodseth - keyboards\, piano\, bass\, vocals. Nick arranges the music\, trying not to slip into an old Beatles song just to torment Tom on the drums\, and give a chuckle to Roanna and Erick.\n\n\n\nTom Rickard - drums. Every band on the Mendocino Coast uses Tom on drums whenever possible. Perfect time\, and an easy-going style that makes you want to dance. So\, of course\, Roanna is trying to crack him up\, while at rehearsal Nick slips into a rock song just long enough to make him raise the white flag.\n\n\n\nErick Kolberg - guitar\, vocals. Hot licks and lost picks. Erick lays down the groove\, and then lets the lead guitar fly.
X-ALT-DESC;FMTTYPE=text/html:<span style="color:rgb(75\, 79\, 86)\; font-family:helvetica\,arial\,sans-serif\; font-size:14px">Swing dance to THE SWING DOCTORS!</span><br />\n<span style="color:rgb(75\, 79\, 86)\; font-family:helvetica\,arial\,sans-serif\; font-size:14px">February 17 2018</span><br />\n<span style="color:rgb(75\, 79\, 86)\; font-family:helvetica\,arial\,sans-serif\; font-size:14px">7 PM - 10 PM</span><br />\n<span style="color:rgb(75\, 79\, 86)\; font-family:helvetica\,arial\,sans-serif\; font-size:14px">Masonic Center - 428 North Main Street</span><br />\n<br />\n<span style="color:rgb(75\, 79\, 86)\; font-family:helvetica\,arial\,sans-serif\; font-size:14px">Swing is king on the California coast!</span><br />\n<span style="color:rgb(75\, 79\, 86)\; font-family:helvetica\,arial\,sans-serif\; font-size:14px">About THE SWING DOCTORS</span><br />\n<br />\n<span style="color:rgb(75\, 79\, 86)\; font-family:helvetica\,arial\,sans-serif\; font-size:14px">From Fort Bragg CA\, The Swing Doctors Play a mix of fun dancing music from the 40&#39\;s\, with a little of the 50&#39\;s just for kicks.</span><br />\n<br />\n<span style="color:rgb(75\, 79\, 86)\; font-family:helvetica\,arial\,sans-serif\; font-size:14px">Roanna Olds - vocals. Roanna is the driving force behind the band. She is a consumate professional\, until Nick tries to distract her so she forgets her lyrics. She loves to travel\, so you might run into her in L.A.\, Montana or even Canada.</span><br />\n<br />\n<span style="color:rgb(75\, 79\, 86)\; font-family:helvetica\,arial\,sans-serif\; font-size:14px">Nick Rodseth - keyboards\, piano\, bass\, vocals. Nick arranges the music\, trying not to slip into an old Beatles song just to torment Tom on the drums\, and give a chuckle to Roanna and Erick.<br />\n<br />\nTom Rickard - drums. Every band on the Mendocino Coast uses Tom on drums whenever possible. Perfect time\, and an easy-going style that makes you want to dance. So\, of course\, Roanna is trying to crack him up\, while at rehearsal Nick slips into a rock song just long enough to make him raise the white flag.<br />\n<br />\nErick Kolberg - guitar\, vocals. Hot licks and lost picks. Erick lays down the groove\, and then lets the lead guitar fly.</span>
LOCATION:Masonic Center 428 North Main Street\, Fort Bragg
UID:e.2883.5512
SEQUENCE:3
DTSTAMP:20260423T190553Z
URL:http://mendocinocoast.smartcms.site/events/details/flirting-with-the-40s-swing-dance-5512
END:VEVENT

END:VCALENDAR
