BEGIN:VCALENDAR
VERSION:2.0
PRODID:-//ChamberMaster//Event Calendar 2.0//EN
METHOD:PUBLISH
X-PUBLISHED-TTL:P3D
REFRESH-INTERVAL:P3D
CALSCALE:GREGORIAN
BEGIN:VEVENT
DTSTART:20180704T173000Z
DTEND:20180704T213000Z
X-MICROSOFT-CDO-ALLDAYEVENT:FALSE
SUMMARY:Flags\, Face Painting & Puppet Show
DESCRIPTION:Attention All Parents!\n\nBring all your kids to Rotary Park in Mendocino between 10:30am and 2:30pm for flags\, face painting and puppet show!
X-ALT-DESC;FMTTYPE=text/html:Attention All Parents!<br />\nBring all your kids to Rotary Park in Mendocino between 10:30am and 2:30pm&nbsp\;for flags\, face painting and puppet show!
LOCATION:Rotary Park in Mendocino
UID:e.2883.8983
SEQUENCE:3
DTSTAMP:20260423T040656Z
URL:http://mendocinocoast.smartcms.site/events/details/flags-face-painting-puppet-show-8983
END:VEVENT

END:VCALENDAR
