BEGIN:VCALENDAR
VERSION:2.0
PRODID:-//ChamberMaster//Event Calendar 2.0//EN
METHOD:PUBLISH
X-PUBLISHED-TTL:P3D
REFRESH-INTERVAL:P3D
CALSCALE:GREGORIAN
BEGIN:VEVENT
DTSTART:20200105T160000Z
DTEND:20200105T193000Z
X-MICROSOFT-CDO-ALLDAYEVENT:FALSE
SUMMARY:First Sunday Breakfast & Rummage Sale
DESCRIPTION:A breakfast and rummage sale will occur at Fort Bragg-Inglenook Community Center. A full breakfast costs $10.00. A small breakfast costs $6.00. A small breakfast is the same menu as a full breakfast but half the food. Breakfast includes pancakes\, pit ham\, hash browns\, fried or scrambled eggs\, coffee\, tea\, or milk. Glass of carrot juice is $2.00. Glass of orange juice is $1.00. Small bowl of mixed fresh fruit is $1.00. The rummage sale occurs in the assembly room next to the dining room.
X-ALT-DESC;FMTTYPE=text/html:A breakfast and rummage sale will occur at Fort Bragg-Inglenook Community Center. A full breakfast costs $10.00. A small breakfast costs $6.00. A small breakfast is the same menu as a full breakfast but half the food. Breakfast includes pancakes\, pit ham\, hash browns\, fried or scrambled eggs\, coffee\, tea\, or milk. Glass of carrot juice is $2.00. Glass of orange juice is $1.00. Small bowl of mixed fresh fruit is $1.00. The rummage sale occurs in the assembly room next to the dining room.
LOCATION:26500 N. HWY 1 6-miles north of Fort Bragg near Inglenook.
UID:e.2883.12608
SEQUENCE:3
DTSTAMP:20260421T215438Z
URL:http://mendocinocoast.smartcms.site/events/details/first-sunday-breakfast-rummage-sale-01-05-2020-12608
END:VEVENT

END:VCALENDAR
