BEGIN:VCALENDAR
VERSION:2.0
PRODID:-//ChamberMaster//Event Calendar 2.0//EN
METHOD:PUBLISH
X-PUBLISHED-TTL:P3D
REFRESH-INTERVAL:P3D
CALSCALE:GREGORIAN
BEGIN:VEVENT
DTSTART:20170708T000000Z
DTEND:20170708T020000Z
X-MICROSOFT-CDO-ALLDAYEVENT:FALSE
SUMMARY:First Friday Pop Up Shops!
DESCRIPTION:JULY 7th \, 5-7 pm - FIRST FRIDAY POP UP SHOPS will have up to 20 booths selling cosmetics\, homemade gift items\, home goods\, food\, jewelry\, clothing\, art\, information booths sharing information about their organizations\, and more! Located In the beautiful Masonic Center\, conveniently located at 428 N. Main Street\, downtown Fort Bragg. Come on by and explore our local talent and vendors! Are you a Vendor? Would you like to rent a space? For more info\, VISIT https://www.facebook.com/cindersproductions/ or contact clemas.producer@mcn.org
X-ALT-DESC;FMTTYPE=text/html:JULY 7th \, 5-7 pm - FIRST FRIDAY POP UP SHOPS will have up to 20 booths selling cosmetics\, homemade gift items\, home goods\, food\, jewelry\, clothing\, art\, information booths sharing information about their organizations\, and more! Located In the beautiful Masonic Center\, conveniently located at 428 N. Main Street\, downtown Fort Bragg. Come on by and explore our local talent and vendors! Are you a Vendor? Would you like to rent a space? For more info\, VISIT https://www.facebook.com/cindersproductions/ or contact clemas.producer@mcn.org
LOCATION:428 N. Main Street\, downtown Fort Bragg.
UID:e.2883.1542
SEQUENCE:3
DTSTAMP:20260424T011213Z
URL:http://mendocinocoast.smartcms.site/events/details/first-friday-pop-up-shops-1542
END:VEVENT

END:VCALENDAR
