BEGIN:VCALENDAR
VERSION:2.0
PRODID:-//ChamberMaster//Event Calendar 2.0//EN
METHOD:PUBLISH
X-PUBLISHED-TTL:P3D
REFRESH-INTERVAL:P3D
CALSCALE:GREGORIAN
BEGIN:VEVENT
DTSTART:20170901T230000Z
DTEND:20170902T030000Z
X-MICROSOFT-CDO-ALLDAYEVENT:FALSE
SUMMARY:First Friday at Interior
DESCRIPTION:Celebrate First Friday on September 1 Interior style! We will have drinks\, snacks\, and of course selected sale items. Join us at 224 East Redwood in downtown Fort Bragg from 4:00 pm to 8:00 pm. Call us with any questions at 962-1651\, or email interiorhomeideas@gmail.com. Looking forward to seeing you there!
X-ALT-DESC;FMTTYPE=text/html:Celebrate First Friday on September 1 Interior style! We will have drinks\, snacks\, and of course selected sale items. Join us at 224 East Redwood in downtown Fort Bragg from 4:00 pm to 8:00 pm. Call us with any questions at 962-1651\, or email interiorhomeideas@gmail.com. Looking forward to seeing you there!
LOCATION:224 East Redwood
UID:e.2883.4396
SEQUENCE:3
DTSTAMP:20260423T214502Z
URL:http://mendocinocoast.smartcms.site/events/details/first-friday-at-interior-09-01-2017-4396
END:VEVENT

END:VCALENDAR
