BEGIN:VCALENDAR
VERSION:2.0
PRODID:-//ChamberMaster//Event Calendar 2.0//EN
METHOD:PUBLISH
X-PUBLISHED-TTL:P3D
REFRESH-INTERVAL:P3D
CALSCALE:GREGORIAN
BEGIN:VEVENT
DTSTART:20180101T210000Z
DTEND:20180101T220000Z
X-MICROSOFT-CDO-ALLDAYEVENT:FALSE
SUMMARY:First Day Hikes
DESCRIPTION:History and whale watching hike along the Mendocino Headlands. Leaves from the Ford House Visitor Center at 1 p.m. Easy hike\, about 1 mile long. Learn about the history of the Mendocino Headlands and the Gray Whale migration as you stroll along the Headlands. Bring cameras and binoculars. A limited number of binoculars are provided. No fee. Donations accepted.
X-ALT-DESC;FMTTYPE=text/html:History and whale watching hike along the Mendocino Headlands. Leaves from the Ford House Visitor Center at 1 p.m. Easy hike\, about 1 mile long. Learn about the history of the Mendocino Headlands and the Gray Whale migration as you stroll along the Headlands. Bring cameras and binoculars. A limited number of binoculars are provided. No fee. Donations accepted.
LOCATION:Ford House Visitor Center and Museum. 45035 Main Street
UID:e.2883.5499
SEQUENCE:3
DTSTAMP:20260423T140843Z
URL:http://mendocinocoast.smartcms.site/events/details/first-day-hikes-5499
END:VEVENT

END:VCALENDAR
