BEGIN:VCALENDAR
VERSION:2.0
PRODID:-//ChamberMaster//Event Calendar 2.0//EN
METHOD:PUBLISH
X-PUBLISHED-TTL:P3D
REFRESH-INTERVAL:P3D
CALSCALE:GREGORIAN
BEGIN:VEVENT
DTSTART:20161206T100000Z
DTEND:20161206T110000Z
X-MICROSOFT-CDO-ALLDAYEVENT:FALSE
SUMMARY:First Day Hikes
DESCRIPTION:First Day Hike\, January 1\, 2017. Mendocino Headlands State Park\, Mendocino\, 1:00 p.m. - 2 p.m. Meet the docent at the Ford House Museum and Visitor Center at 45035 Main Street in Mendocino. Walk out to the Mendocino Headlands to look for gray whales. Learn a little history about the annual migration of the gray whales. 1 mile easy hike. Minimum ageÂ to attend is 3 year's old. Rain will cancel this event. Wear layered clothing. Bring binoculars\, water and a camera. For more information call 707-937-5397
X-ALT-DESC;FMTTYPE=text/html:<p><strong>First Day Hike\, January 1\, 2017. Mendocino Headlands State Park\, Mendocino\, 1:00 p.m. - 2 p.m. </strong>Meet the docent at the <strong>Ford House Museum and Visitor Center at 45035 Main Street in Mendocino. </strong>Walk out to the Mendocino Headlands to look for gray whales. Learn a little history about the annual migration of the gray whales. 1 mile easy hike. Minimum ageÂ to attend is 3 year's old. Rain will cancel this event. Wear layered clothing. Bring binoculars\, water and a camera. For more information call 707-937-5397</p>
LOCATION:Ford House Museum and Visitor Center Mendocino
UID:e.2883.1074
SEQUENCE:3
DTSTAMP:20260424T123958Z
URL:http://mendocinocoast.smartcms.site/events/details/first-day-hikes-12-06-2016-1074
END:VEVENT

END:VCALENDAR
