BEGIN:VCALENDAR
VERSION:2.0
PRODID:-//ChamberMaster//Event Calendar 2.0//EN
METHOD:PUBLISH
X-PUBLISHED-TTL:P3D
REFRESH-INTERVAL:P3D
CALSCALE:GREGORIAN
BEGIN:VEVENT
DTSTART:20190901T020000Z
DTEND:20190901T070000Z
X-MICROSOFT-CDO-ALLDAYEVENT:FALSE
SUMMARY:Fireman's Ball
DESCRIPTION:Must be 21 or older
X-ALT-DESC;FMTTYPE=text/html:Must be 21 or older
LOCATION:Pentecost Hall\, 822 Stewart St. Fort Bragg
UID:e.2883.11962
SEQUENCE:3
DTSTAMP:20260422T043035Z
URL:http://mendocinocoast.smartcms.site/events/details/fireman-s-ball-11962
END:VEVENT

END:VCALENDAR
