BEGIN:VCALENDAR
VERSION:2.0
PRODID:-//ChamberMaster//Event Calendar 2.0//EN
METHOD:PUBLISH
X-PUBLISHED-TTL:P3D
REFRESH-INTERVAL:P3D
CALSCALE:GREGORIAN
BEGIN:VEVENT
DTSTART:20160825T160000Z
DTEND:20160825T230000Z
X-MICROSOFT-CDO-ALLDAYEVENT:FALSE
SUMMARY:Find the Magic! Rediscovering our Pygmy Forest!
DESCRIPTION:Dedication and unveiling of the Pygmy Forest National Natural Landmark and rededication of the Charlotte M. Hoak Pygmy Forest. A speach by Laurie Jenkins\, Director of the National Parks Service\, Receptions and lunchen\, Hikes to Pygmy Forest planned for Friday\, Saturday and Sunday September 9th\, 10th and 11th. Ongoing events and exhibits throughout the month at different locations. For more information and schedule of times of events please call the Ford House Museum and Visitor Center. 707-937-5397
X-ALT-DESC;FMTTYPE=text/html:<p>Dedication and unveiling of the Pygmy Forest National Natural Landmark and rededication of the Charlotte M. Hoak Pygmy Forest. A speach by Laurie Jenkins\, Director of the National Parks Service\, Receptions and lunchen\, Hikes to Pygmy Forest planned for Friday\, Saturday and Sunday September 9th\, 10th and 11th. Ongoing events and exhibits throughout the month at different locations. For more information and schedule of times of events please call the Ford House Museum and Visitor Center. 707-937-5397</p>
LOCATION:Ford House Museum and Visitor Center Mendocino
UID:e.2883.1006
SEQUENCE:3
DTSTAMP:20260424T212508Z
URL:http://mendocinocoast.smartcms.site/events/details/find-the-magic-rediscovering-our-pygmy-forest-08-25-2016-1006
END:VEVENT

END:VCALENDAR
