BEGIN:VCALENDAR
VERSION:2.0
PRODID:-//ChamberMaster//Event Calendar 2.0//EN
METHOD:PUBLISH
X-PUBLISHED-TTL:P3D
REFRESH-INTERVAL:P3D
CALSCALE:GREGORIAN
BEGIN:VEVENT
DTSTART:20171007T170000Z
DTEND:20171007T230000Z
X-MICROSOFT-CDO-ALLDAYEVENT:FALSE
SUMMARY:Fiber Fair and Textile Bazaar
DESCRIPTION:Our third annual Fiber Fair and Textile Bazaar promises to be the biggest and best so far! Ten different fiber artists & Hospice Thrift store will have tables selling new fiber works\, gently used ethnic textiles\, unique handmade clothing\, fabrics\, books\, yarns\, looms\, shuttles\, other equipment\, and related textile treasures. Also a small version of our Quality Rummage Sale\, held for many years in the past\, will be presented this year.
X-ALT-DESC;FMTTYPE=text/html:Our third annual Fiber Fair and Textile Bazaar promises to be the biggest and best so far! Ten different fiber artists &amp\; Hospice Thrift store will have tables selling new fiber works\, gently used ethnic textiles\, unique handmade clothing\, fabrics\, books\, yarns\, looms\, shuttles\, other equipment\, and related textile treasures. Also a small version of our Quality Rummage Sale\, held for many years in the past\, will be presented this year.
LOCATION:Pacific Textile Arts 450 Alger St. Ft. Bragg\, CA
UID:e.2883.4427
SEQUENCE:3
DTSTAMP:20260423T201115Z
URL:http://mendocinocoast.smartcms.site/events/details/fiber-fair-and-textile-bazaar-4427
END:VEVENT

END:VCALENDAR
