BEGIN:VCALENDAR
VERSION:2.0
PRODID:-//ChamberMaster//Event Calendar 2.0//EN
METHOD:PUBLISH
X-PUBLISHED-TTL:P3D
REFRESH-INTERVAL:P3D
CALSCALE:GREGORIAN
BEGIN:VEVENT
DTSTART:20161012T180000Z
DTEND:20161012T120000Z
X-MICROSOFT-CDO-ALLDAYEVENT:FALSE
SUMMARY:Festival of Trees
DESCRIPTION:The 13th Annual Festival of Trees transforms the Gualala Arts Center into mid-19th Century Gualala\, with food\, fun and festivities for all ages! Visits from Santa\, children's activities\, artists demonstrations and wares for sale\, beautifully adorned trees for silent auction to benefit Gualala Arts. Free admittance for all ages.
X-ALT-DESC;FMTTYPE=text/html:<p>The 13th Annual Festival of Trees transforms the Gualala Arts Center into mid-19th Century Gualala\, with food\, fun and festivities for all ages! Visits from Santa\, children's activities\, artists demonstrations and wares for sale\, beautifully adorned trees for silent auction to benefit Gualala Arts. Free admittance for all ages.</p>
LOCATION:Gualala Arts Center
UID:e.2883.1032
SEQUENCE:3
DTSTAMP:20260424T160446Z
URL:http://mendocinocoast.smartcms.site/events/details/festival-of-trees-10-12-2016-1032
END:VEVENT

END:VCALENDAR
