BEGIN:VCALENDAR
VERSION:2.0
PRODID:-//ChamberMaster//Event Calendar 2.0//EN
METHOD:PUBLISH
X-PUBLISHED-TTL:P3D
REFRESH-INTERVAL:P3D
CALSCALE:GREGORIAN
BEGIN:VEVENT
DTSTART:20180617T000000Z
DTEND:20180617T023000Z
X-MICROSOFT-CDO-ALLDAYEVENT:FALSE
SUMMARY:Father's Day Bbq
DESCRIPTION:A good Fathers Day weekend needs several BBQs\, so the Senior Center will will offer an early one - Saturday evening\, June 16 at 5:00\, serving a chicken and ribs combo plate until 7:30. Naturally all the fixin's are included   corn on the cob\, potatoe salad\, make your own sundae buffet\, and complementary beer\, wine and sparkling cider. All for $20\, and every penny of that goes to fund Meals On Wheels lunch delivery daily to 125 local homebound elders. Father's day is a great time for extended family to get together\, so we want to provide a special incentive. If three generations   Grandfather\, Father\, and Grandson come together   all three will be our guests for the BBQ dinner. So gather the clan and come kick off Father's Day early.
X-ALT-DESC;FMTTYPE=text/html:A good Fathers Day weekend needs several BBQs\, so the Senior Center will will offer an early one - Saturday evening\, June 16 at 5:00\, serving a chicken and ribs combo plate until 7:30. Naturally all the fixin&#39\;s are included &ndash\; corn on the cob\, potatoe salad\, make your own sundae buffet\, and complementary beer\, wine and sparkling cider. All for $20\, and every penny of that goes to fund Meals On Wheels lunch delivery daily to 125 local homebound elders. Father&#39\;s day is a great time for extended family to get together\, so we want to provide a special incentive. If three generations &ndash\; Grandfather\, Father\, and Grandson come together &ndash\; all three will be our guests for the BBQ dinner. So gather the clan and come kick off Father&#39\;s Day early.
LOCATION:Redwood Coast Senior Center
UID:e.2883.8778
SEQUENCE:3
DTSTAMP:20260423T054936Z
URL:http://mendocinocoast.smartcms.site/events/details/father-s-day-bbq-8778
END:VEVENT

END:VCALENDAR
