BEGIN:VCALENDAR
VERSION:2.0
PRODID:-//ChamberMaster//Event Calendar 2.0//EN
METHOD:PUBLISH
X-PUBLISHED-TTL:P3D
REFRESH-INTERVAL:P3D
CALSCALE:GREGORIAN
BEGIN:VEVENT
DTSTART:20200209T013000Z
DTEND:20200209T033000Z
X-MICROSOFT-CDO-ALLDAYEVENT:FALSE
SUMMARY:Father Daughter Dance
DESCRIPTION:A night to remember\, dads or any adult chaperone bring that special person in your life and enjoy a night of dancing. Refreshments will be served and your favorite tunes will rock the house.
X-ALT-DESC;FMTTYPE=text/html:A night to remember\, dads or any adult chaperone bring that special person in your life and enjoy a night of dancing. Refreshments will be served and your favorite tunes will rock the house.
LOCATION:213 East Laurel Street (Old Rec. Gym)
UID:e.2883.12634
SEQUENCE:3
DTSTAMP:20260421T201211Z
URL:http://mendocinocoast.smartcms.site/events/details/father-daughter-dance-12634
END:VEVENT

END:VCALENDAR
