BEGIN:VCALENDAR
VERSION:2.0
PRODID:-//ChamberMaster//Event Calendar 2.0//EN
METHOD:PUBLISH
X-PUBLISHED-TTL:P3D
REFRESH-INTERVAL:P3D
CALSCALE:GREGORIAN
BEGIN:VEVENT
DTSTART:20181215T220000Z
DTEND:20181215T233000Z
X-MICROSOFT-CDO-ALLDAYEVENT:FALSE
SUMMARY:Family Movie Sing-Along
DESCRIPTION:It's a whole new world when you sing-along with Robin Williams' A Friend in Me. Join us for the fun. Costumes not required but always fun. Snacks provided by Friends of the Fort Bragg Library.
X-ALT-DESC;FMTTYPE=text/html:It&#39\;s a whole new world when you sing-along with Robin Williams&#39\; A Friend in Me. Join us for the fun. Costumes not required but always fun. Snacks provided by Friends of the Fort Bragg Library.
LOCATION:Fort Bragg Library 499 E Laurel St Fort Bragg\, CA 95437
UID:e.2883.10422
SEQUENCE:3
DTSTAMP:20260422T210818Z
URL:http://mendocinocoast.smartcms.site/events/details/family-movie-sing-along-10422
END:VEVENT

END:VCALENDAR
