BEGIN:VCALENDAR
VERSION:2.0
PRODID:-//ChamberMaster//Event Calendar 2.0//EN
METHOD:PUBLISH
X-PUBLISHED-TTL:P3D
REFRESH-INTERVAL:P3D
CALSCALE:GREGORIAN
BEGIN:VEVENT
DTSTART:20191214T220000Z
DTEND:20191214T230000Z
X-MICROSOFT-CDO-ALLDAYEVENT:FALSE
SUMMARY:Fall Youth Art Contest Reception
DESCRIPTION:Open to ages 3 to 16 years-old Theme: Earth Day Turn in your art and entry forms anytime between November 1st and December 10th. Accepted mediums: watercolor\, acrylic\, pastels\, oil\, pencil\, ink\, markers\, and crayons. Art will be displayed at the library and winners announced at our Fall Youth Art Reception\, Saturday\, December 14\, 2019 from 2 to 3 pm at Fort Bragg Library.
X-ALT-DESC;FMTTYPE=text/html:Open to ages 3 to 16 years-old Theme: Earth Day Turn in your art and entry forms anytime between November 1st and December 10th. Accepted mediums: watercolor\, acrylic\, pastels\, oil\, pencil\, ink\, markers\, and crayons. Art will be displayed at the library and winners announced at our Fall Youth Art Reception\, Saturday\, December 14\, 2019 from 2 to 3 pm at Fort Bragg Library.
LOCATION:Fort Bragg Library 499 Laurel St Fort Bragg\, CA 95437
UID:e.2883.12460
SEQUENCE:3
DTSTAMP:20260421T233641Z
URL:http://mendocinocoast.smartcms.site/events/details/fall-youth-art-contest-reception-12460
END:VEVENT

END:VCALENDAR
