BEGIN:VCALENDAR
VERSION:2.0
PRODID:-//ChamberMaster//Event Calendar 2.0//EN
METHOD:PUBLISH
X-PUBLISHED-TTL:P3D
REFRESH-INTERVAL:P3D
CALSCALE:GREGORIAN
BEGIN:VEVENT
DTSTART:20160902T160000Z
DTEND:20160902T120000Z
X-MICROSOFT-CDO-ALLDAYEVENT:FALSE
SUMMARY:Fall Plant & Store Sale at the Botanical Gardens
DESCRIPTION:Fall Plant & Store SaleSeptember 17 through September 25\n9:00am to 5:00pm\; each day during the Gardens' normal operating hoursIt is time to stock up on plants for winter and early spring bloom and start your holiday shopping now\, at Mendocino Coast Botanical Gardens' annual Fall Plant & Store Saleâ€”atÂ Nursery on the Plaza andÂ The Garden Store.Gardens' Members receive 20% off*Public receives 10% off**Discount applies to all plants and select store items
X-ALT-DESC;FMTTYPE=text/html:<h1>Fall Plant &amp\; Store Sale</h1><h3>September 17 through September 25<br />9:00am to 5:00pm\; each day during the Gardens' normal operating hours</h3><p>It is time to stock up on plants for winter and early spring bloom and start your holiday shopping now\, at Mendocino Coast Botanical Gardens' annual Fall Plant &amp\; Store Saleâ€”atÂ <a href="https://www.facebook.com/MCBGNurseryOnThePlaza/" target="_blank">Nursery on the Plaza</a> andÂ <a href="https://www.facebook.com/MCBGGardenStore/" target="_blank">The Garden Store</a>.</p><p>Gardens' Members receive 20% off*</p><p>Public receives 10% off*</p><p>*<em>Discount applies to <span style="text-decoration:underline\;">all plants</span> and <span style="text-decoration:underline\;">select store items</span></em></p>
LOCATION:Mendocino Coast Botanical Gardens Fort Bragg
UID:e.2883.1011
SEQUENCE:3
DTSTAMP:20260424T175820Z
URL:http://mendocinocoast.smartcms.site/events/details/fall-plant-store-sale-at-the-botanical-gardens-09-02-2016-1011
END:VEVENT

END:VCALENDAR
