BEGIN:VCALENDAR
VERSION:2.0
PRODID:-//ChamberMaster//Event Calendar 2.0//EN
METHOD:PUBLISH
X-PUBLISHED-TTL:P3D
REFRESH-INTERVAL:P3D
CALSCALE:GREGORIAN
BEGIN:VEVENT
DTSTART:20211105T180000Z
DTEND:20211130T000000Z
X-MICROSOFT-CDO-ALLDAYEVENT:FALSE
SUMMARY:"Explorations": Artwork by Rosemary Allen & Carolyn King
DESCRIPTION:The Mendocino Art Center presents "Explorations\," an in-person exhibition featuring new abstract paintings by Rosemary Allen\, accompanied by Carolyn King's sculptural works created from natural materials. Also showing is "Rock\, Paper\, Scissors\," an exhibition of collage works by Mendocino heritage artist Dorr Bothwell. A Free Second Saturday Gallery Reception will be held Saturday\, November 13\, 5pm to 7pm. Prior to the Reception there will be a free\, hands-on "Art in Action" collaging event\, 2pm-4pm.Participants may create individual collages or collaborate on a community wall collage. A second "Art in Action" event will be held Saturday\, November 27\, 2pm-4pm.
X-ALT-DESC;FMTTYPE=text/html:The Mendocino Art Center presents &ldquo\;Explorations\,&rdquo\; an in-person exhibition featuring new abstract paintings by Rosemary Allen\, accompanied by Carolyn King&rsquo\;s sculptural works created from natural materials. Also showing is &ldquo\;Rock\, Paper\, Scissors\,&rdquo\; an exhibition of collage works by Mendocino heritage artist Dorr Bothwell. A Free Second Saturday Gallery Reception will be held Saturday\, November 13\, 5pm to 7pm. Prior to the Reception there will be a free\, hands-on &ldquo\;Art in Action&rdquo\; collaging event\, 2pm-4pm.Participants may create individual collages or collaborate on a community wall collage. A second &ldquo\;Art in Action&rdquo\; event will be held Saturday\, November 27\, 2pm-4pm.
LOCATION:Mendocino Art Center 45200 Little Lake Street\, Mendocino
UID:e.2883.15985
SEQUENCE:3
DTSTAMP:20260420T085948Z
URL:http://mendocinocoast.smartcms.site/events/details/explorations-artwork-by-rosemary-allen-carolyn-king-15985
END:VEVENT

END:VCALENDAR
