BEGIN:VCALENDAR
VERSION:2.0
PRODID:-//ChamberMaster//Event Calendar 2.0//EN
METHOD:PUBLISH
X-PUBLISHED-TTL:P3D
REFRESH-INTERVAL:P3D
CALSCALE:GREGORIAN
BEGIN:VEVENT
DTSTART:20191109T200000Z
DTEND:20191110T000000Z
X-MICROSOFT-CDO-ALLDAYEVENT:FALSE
SUMMARY:Exhibit Opening: Natural Expressions
DESCRIPTION:NEW EXHIBIT AT MENDOCINO COUNTY MUSEUM DELAYED DUE TO PUBLIC SAFETY POWER SHUTOFF Natural Expressions: Art Inspired by Mendocino County Now Opening November 9 Due to the Public Safety Power Shutoff (PSPS)\, our new exhibit opening of Natural Expressions: Art Inspired by Mendocino County will now be delayed until November 9\, 2019 from 12 p.m.   4 p.m. From the Mendocino County Museum's permanent collection\, Natural Expressions: Art Inspired by Mendocino County exhibit features arts and crafts showcasing the beauty and diversity of Mendocino County's landscapes and resources. The art exhibit includes paintings\, fiber art\, and various crafts made from Mendocino County's rich natural resources such as mushrooms\, driftwood\, shells\, redwood\, and leather. Works from beloved Mendocino County artists such as Lorenzo Latimer\, Grace Hudson\, and Mark Walker will be on display. In addition\, nature inspired weaving\, quilting\, woodworking\, and leatherworking will be exhibited. To celebrate the new exhibit opening\, the Museum will offer FREE admission on Saturday\, November 9\, 2019. Visitors will be invited to participate in a FREE nature inspired art craft from 1:00   3:00 pm in the Museum's new Interactive Room. Natural Expressions: Art Inspired by Mendocino County will be showing at the Mendocino County Museum November 9\, 2019   March 15\, 2020. Please see our exhibit program calendar for arts and crafts programs that will be held in conjunction with the exhibit.
X-ALT-DESC;FMTTYPE=text/html:NEW EXHIBIT AT MENDOCINO COUNTY MUSEUM DELAYED DUE TO PUBLIC SAFETY POWER SHUTOFF Natural Expressions: Art Inspired by Mendocino County Now Opening November 9 Due to the Public Safety Power Shutoff (PSPS)\, our new exhibit opening of Natural Expressions: Art Inspired by Mendocino County will now be delayed until November 9\, 2019 from 12 p.m. &ndash\; 4 p.m. From the Mendocino County Museum&rsquo\;s permanent collection\, Natural Expressions: Art Inspired by Mendocino County exhibit features arts and crafts showcasing the beauty and diversity of Mendocino County&rsquo\;s landscapes and resources. The art exhibit includes paintings\, fiber art\, and various crafts made from Mendocino County&rsquo\;s rich natural resources such as mushrooms\, driftwood\, shells\, redwood\, and leather. Works from beloved Mendocino County artists such as Lorenzo Latimer\, Grace Hudson\, and Mark Walker will be on display. In addition\, nature inspired weaving\, quilting\, woodworking\, and leatherworking will be exhibited. To celebrate the new exhibit opening\, the Museum will offer FREE admission on Saturday\, November 9\, 2019. Visitors will be invited to participate in a FREE nature inspired art craft from 1:00 &ndash\; 3:00 pm in the Museum&rsquo\;s new Interactive Room. Natural Expressions: Art Inspired by Mendocino County will be showing at the Mendocino County Museum November 9\, 2019 &ndash\; March 15\, 2020. Please see our exhibit program calendar for arts and crafts programs that will be held in conjunction with the exhibit.
LOCATION:Mendocino County Museum 400 E. Commercial St. Willits\, CA 95490
UID:e.2883.12508
SEQUENCE:3
DTSTAMP:20260422T011346Z
URL:http://mendocinocoast.smartcms.site/events/details/exhibit-opening-natural-expressions-12508
END:VEVENT

END:VCALENDAR
