BEGIN:VCALENDAR
VERSION:2.0
PRODID:-//ChamberMaster//Event Calendar 2.0//EN
METHOD:PUBLISH
X-PUBLISHED-TTL:P3D
REFRESH-INTERVAL:P3D
CALSCALE:GREGORIAN
BEGIN:VEVENT
DTSTART;VALUE=DATE:20170419
DTEND;VALUE=DATE:20170420
TRANSP:TRANSPARENT
X-MICROSOFT-CDO-ALLDAYEVENT:TRUE
SUMMARY:Evan Hobart\, â€œExcavateâ€ Exhibition
DESCRIPTION:"I draw inspiration for my artwork from the interaction between the natural and human environments\, expressing my concerns in narrative\, thought-provoking works. I have spent time living in both diverse metropolitan areas and rural\, remote areas\, both of whose atmospheres have profoundly affected my perspective on the world and our place in it. Enriched by my empathy and appreciation for nature\, my artwork acts as an interrogation of modern life. My work examines todayâ€™s world and many of its less attractive facets such as consumerism\, global climate change\, politics\, war\, pollution\, â€¨over development and eventual extinction. Unpleasant as it is to confront these issues\, it is the work (obligation) of the artist and teacher\, now and in the past\, to do so â€“ in a creative and thought-provoking way."â€” Evan HobartÂ Â Second Saturday Gallery Reception:May 13\, 5pm-8pmFree admissionÂ Mendocino Art Center hosts a free Second Saturday Artists Reception each month. Enjoy snacks and wine\, and meet the exhibiting artists.
X-ALT-DESC;FMTTYPE=text/html:<p>"I draw inspiration for my artwork from the interaction between the natural and human environments\, expressing my concerns in narrative\, thought-provoking works. I have spent time living in both diverse metropolitan areas and rural\, remote areas\, both of whose atmospheres have profoundly affected my perspective on the world and our place in it. Enriched by my empathy and appreciation for nature\, my artwork acts as an interrogation of modern life. My work examines todayâ€™s world and many of its less attractive facets such as consumerism\, global climate change\, politics\, war\, pollution\, â€¨over development and eventual extinction. Unpleasant as it is to confront these issues\, it is the work (obligation) of the artist and teacher\, now and in the past\, to do so â€“ in a creative and thought-provoking way."</p><p><strong>â€” Evan Hobart</strong></p><p>Â </p><p>Â </p><p><strong>Second Saturday Gallery Reception:</strong></p><p><strong>May 13\, 5pm-8pm</strong></p><p>Free admission</p><p>Â </p><p>Mendocino Art Center hosts a free Second Saturday Artists Reception each month. Enjoy snacks and wine\, and meet the exhibiting artists<strong>.</strong></p>
LOCATION:Mendocino Art Center
UID:e.2883.1191
SEQUENCE:3
DTSTAMP:20260424T061041Z
URL:http://mendocinocoast.smartcms.site/events/details/evan-hobart-&#226;-œexcavate&#226;-exhibition-04-19-2017-1191
END:VEVENT

END:VCALENDAR
