BEGIN:VCALENDAR
VERSION:2.0
PRODID:-//ChamberMaster//Event Calendar 2.0//EN
METHOD:PUBLISH
X-PUBLISHED-TTL:P3D
REFRESH-INTERVAL:P3D
CALSCALE:GREGORIAN
BEGIN:VEVENT
DTSTART:20200411T190000Z
DTEND:20200411T230000Z
X-MICROSOFT-CDO-ALLDAYEVENT:FALSE
SUMMARY:Emerald Dolphin Mini Golf Easter Carnival
DESCRIPTION:Come one come all to the best Carnival! Kids of all ages will have a blast from Noon-4pm with the free Easter Games\, activities\, and Free mini golf for all kids all day with adult ticket. Tickets will be available for Carnival games to win great prizes\, bounce house\, silly string wars\, yummy food\, and MORE! Hang around because at 4pm sharp\, bring your basket for our free annual Easter Egg Hunt!! Join the Easter Bunny in our field for kids 12 and under.
X-ALT-DESC;FMTTYPE=text/html:Come one come all to the best Carnival! Kids of all ages will have a blast from Noon-4pm with the free Easter Games\, activities\, and Free mini golf for all kids all day with adult ticket. Tickets will be available for Carnival games to win great prizes\, bounce house\, silly string wars\, yummy food\, and MORE! Hang around because at 4pm sharp\, bring your basket for our free annual Easter Egg Hunt!! Join the Easter Bunny in our field for kids 12 and under.
LOCATION:ED Mini Golf- 1211 South Main Street\, Fort Bragg\, CA 95437
UID:e.2883.12901
SEQUENCE:3
DTSTAMP:20260421T171939Z
URL:http://mendocinocoast.smartcms.site/events/details/emerald-dolphin-mini-golf-easter-carnival-12901
END:VEVENT

END:VCALENDAR
