BEGIN:VCALENDAR
VERSION:2.0
PRODID:-//ChamberMaster//Event Calendar 2.0//EN
METHOD:PUBLISH
X-PUBLISHED-TTL:P3D
REFRESH-INTERVAL:P3D
CALSCALE:GREGORIAN
BEGIN:VEVENT
DTSTART:20170729T190000Z
DTEND:20170729T230000Z
X-MICROSOFT-CDO-ALLDAYEVENT:FALSE
SUMMARY:Elk Volunteer Fire Dept Annual Summer BBQ
DESCRIPTION:The Elk Volunteer Fire Department celebrates 61 years of service at its 13th annual summer BBQ on Saturday\, July 29\, noon to 4:00 p.m. at the Greenwood Community Center in downtown Elk. Savor tri-tip\, chicken or portabella mushroom entrees plus sides\, dessert and coffee. Donation: $20 for adults\, $10 for kids 7-12 (6 and under free). Enjoy a no-host bar featuring Elk's famous Margaritas\, live music\, a raffle\, and activities for kids. Come out and support the firefighters who serve Elk and provide mutual aid to surrounding communities. The annual BBQ generates critical funds to maintain the department and its equipment. Kindly leave the dogs at home. For more information\, contact Clark Fish\, 877-3494.
X-ALT-DESC;FMTTYPE=text/html:The Elk Volunteer Fire Department celebrates 61 years of service at its 13th annual summer BBQ on Saturday\, July 29\, noon to 4:00 p.m. at the Greenwood Community Center in downtown Elk. Savor tri-tip\, chicken or portabella mushroom entrees plus sides\, dessert and coffee. Donation: $20 for adults\, $10 for kids 7-12 (6 and under free). Enjoy a no-host bar featuring Elk&rsquo\;s famous Margaritas\, live music\, a raffle\, and activities for kids. Come out and support the firefighters who serve Elk and provide mutual aid to surrounding communities. The annual BBQ generates critical funds to maintain the department and its equipment. Kindly leave the dogs at home. For more information\, contact Clark Fish\, 877-3494.
LOCATION:Greenwood Community Center\, Elk
UID:e.2883.3188
SEQUENCE:3
DTSTAMP:20260424T011413Z
URL:http://mendocinocoast.smartcms.site/events/details/elk-volunteer-fire-dept-annual-summer-bbq-3188
END:VEVENT

END:VCALENDAR
