BEGIN:VCALENDAR
VERSION:2.0
PRODID:-//ChamberMaster//Event Calendar 2.0//EN
METHOD:PUBLISH
X-PUBLISHED-TTL:P3D
REFRESH-INTERVAL:P3D
CALSCALE:GREGORIAN
BEGIN:VEVENT
DTSTART:20180804T190000Z
DTEND:20180804T230000Z
X-MICROSOFT-CDO-ALLDAYEVENT:FALSE
SUMMARY:Elk Fire Department Annual Summer BBQ
DESCRIPTION:The Elk Volunteer Fire Department celebrates 62 years of service at its 14th Annual Summer BBQ on Saturday\, August 4\, noon to 4:00 p.m. at the Greenwood Community Center in downtown Elk.  Savor tri-tip\, chicken or portabella mushroom entrees plus sides\, dessert and coffee.  Donation:  $20 for adults\, $10 for kids 7-12 (6 and under free).  Enjoy a no-host bar featuring Elk's famous Margaritas\, live music\, a raffle\, and activities for kids.  Come out and support the firefighters who serve Elk and provide mutual aid to surrounding communities.  The annual BBQ generates critical funds to maintain the department facilities and equipment.  Kindly leave the dogs at home.
X-ALT-DESC;FMTTYPE=text/html:<span style="font-family:arial\,helvetica\,sans-serif"><span style="font-size:14px">The <strong>Elk Volunteer Fire Department</strong> celebrates 62 years of service at&nbsp\;its 14<sup>th</sup>&nbsp\;Annual Summer BBQ on Saturday\, August 4\, noon to 4:00 p.m. at the Greenwood Community Center in downtown Elk.&nbsp\; Savor tri-tip\, chicken or portabella mushroom entrees plus sides\, dessert and coffee.&nbsp\; Donation: &nbsp\;$20 for adults\, $10 for kids 7-12 (6 and under free).&nbsp\; Enjoy a no-host bar featuring Elk&rsquo\;s famous Margaritas\, live music\, a raffle\, and activities for kids.&nbsp\; Come out and support the firefighters who serve Elk and provide mutual aid to surrounding communities.&nbsp\; The annual BBQ generates critical funds to maintain the department facilities and equipment.&nbsp\; Kindly leave the dogs at home.</span></span><br />\n&nbsp\;
LOCATION:Greenwood Community Center\, Elk
UID:e.2883.9099
SEQUENCE:3
DTSTAMP:20260423T022901Z
URL:http://mendocinocoast.smartcms.site/events/details/elk-fire-department-annual-summer-bbq-9099
END:VEVENT

END:VCALENDAR
