BEGIN:VCALENDAR
VERSION:2.0
PRODID:-//ChamberMaster//Event Calendar 2.0//EN
METHOD:PUBLISH
X-PUBLISHED-TTL:P3D
REFRESH-INTERVAL:P3D
CALSCALE:GREGORIAN
BEGIN:VEVENT
DTSTART:20190727T190000Z
DTEND:20190727T230000Z
X-MICROSOFT-CDO-ALLDAYEVENT:FALSE
SUMMARY:Elk Fire Department Hosts Annual Summer BBQ
DESCRIPTION:The Elk Volunteer Fire Department celebrates 63 years of service at its 15th Annual Summer BBQ.  Savor tri-tip\, chicken or portabella mushroom entrees plus sides\, dessert and coffee.  Enjoy a no-host bar featuring Elk's famous Margaritas\, live music\, a raffle\, and activities for kids.   Gather wildfire and emergency preparation resources.  The annual BBQ generates critical funds to maintain the department facilities and equipment.  Kindly leave the dogs at home.
X-ALT-DESC;FMTTYPE=text/html:The Elk Volunteer Fire Department celebrates 63 years of service at its 15th Annual Summer BBQ.&nbsp\; Savor tri-tip\, chicken or portabella mushroom entrees plus sides\, dessert and coffee. &nbsp\;Enjoy a no-host bar featuring Elk&rsquo\;s famous Margaritas\, live music\, a raffle\, and activities for kids.&nbsp\;&nbsp\; Gather wildfire and emergency preparation resources.&nbsp\; The annual BBQ generates critical funds to maintain the department facilities and equipment. &nbsp\;Kindly leave the dogs at home.<br />\n&nbsp\;
LOCATION:Greenwood Community Center\, Downtown Elk
UID:e.2883.11815
SEQUENCE:3
DTSTAMP:20260422T081038Z
URL:http://mendocinocoast.smartcms.site/events/details/elk-fire-department-annual-summer-bbq-07-27-2019-11815
END:VEVENT

END:VCALENDAR
