BEGIN:VCALENDAR
VERSION:2.0
PRODID:-//ChamberMaster//Event Calendar 2.0//EN
METHOD:PUBLISH
X-PUBLISHED-TTL:P3D
REFRESH-INTERVAL:P3D
CALSCALE:GREGORIAN
BEGIN:VEVENT
DTSTART:20180809T010000Z
DTEND:20180812T160000Z
X-MICROSOFT-CDO-ALLDAYEVENT:FALSE
SUMMARY:Elderflower Womenspirit Festival
DESCRIPTION:Ever August since 1989\, women and girls have gathered at the Mendocino Woodlands to honor feminine spirituality through the Goddess. Join us in celebrating our spirituality by sharing knowledge\, music\, arts\, ritual\, laughter\, and delicious catered meals. EWF is purely a grassroots organization\; all the workshops\, activities and performances are created by the vibrant group of women who participate. We are committed to providing a welcoming and empowering environment for all women\, regardless of race\, color\, religion\, orientation\, or income status. For this year's festival dates and more information\, visit our website\, www.elderflower.org.
X-ALT-DESC;FMTTYPE=text/html:Ever August since 1989\, women and girls have gathered at the Mendocino Woodlands to honor feminine spirituality through the Goddess. Join us in celebrating our spirituality by sharing knowledge\, music\, arts\, ritual\, laughter\, and delicious catered meals. EWF is purely a grassroots organization\; all the workshops\, activities and performances are created by the vibrant group of women who participate. We are committed to providing a welcoming and empowering environment for all women\, regardless of race\, color\, religion\, orientation\, or income status. For this year&rsquo\;s festival dates and more information\, visit our website\, www.elderflower.org.
LOCATION:Mendocino Woodlands\, 39350 Little Lake Rd\, Mendocino\, CA 95460
UID:e.2883.8772
SEQUENCE:3
DTSTAMP:20260423T023100Z
URL:http://mendocinocoast.smartcms.site/events/details/elderflower-womenspirit-festival-8772
END:VEVENT

END:VCALENDAR
