BEGIN:VCALENDAR
VERSION:2.0
PRODID:-//ChamberMaster//Event Calendar 2.0//EN
METHOD:PUBLISH
X-PUBLISHED-TTL:P3D
REFRESH-INTERVAL:P3D
CALSCALE:GREGORIAN
BEGIN:VEVENT
DTSTART:20180331T173000Z
DTEND:20180331T190000Z
X-MICROSOFT-CDO-ALLDAYEVENT:FALSE
SUMMARY:Easter Egg Splash!
DESCRIPTION:Bring your suit and towel. We will start with an Easter Egg Hunt for children ages 1-12 in the pools. We will end with a rubber ducky race in the Lazy River. Lots of prizes! Stay after for the Swim/Slide/Splash from 1-4pm.
X-ALT-DESC;FMTTYPE=text/html:Bring your suit and towel. We will start with an Easter Egg Hunt for children ages 1-12 in the pools. We will end with a rubber ducky race in the Lazy River. Lots of prizes! Stay after for the Swim/Slide/Splash from 1-4pm.
LOCATION:CV Starr Center 300 S. Lincoln St. Fort Bragg\, CA
UID:e.2883.5608
SEQUENCE:3
DTSTAMP:20260423T105129Z
URL:http://mendocinocoast.smartcms.site/events/details/easter-egg-splash-5608
END:VEVENT

END:VCALENDAR
